BEGIN:VCALENDAR
VERSION:2.0
PRODID:-//ICHHA - ECPv6.15.13//NONSGML v1.0//EN
CALSCALE:GREGORIAN
METHOD:PUBLISH
X-ORIGINAL-URL:http://ichha.org
X-WR-CALDESC:Eventos para ICHHA
REFRESH-INTERVAL;VALUE=DURATION:PT1H
X-Robots-Tag:noindex
X-PUBLISHED-TTL:PT1H
BEGIN:VTIMEZONE
TZID:Europe/Berlin
BEGIN:DAYLIGHT
TZOFFSETFROM:+0100
TZOFFSETTO:+0200
TZNAME:CEST
DTSTART:20250330T010000
END:DAYLIGHT
BEGIN:STANDARD
TZOFFSETFROM:+0200
TZOFFSETTO:+0100
TZNAME:CET
DTSTART:20251026T010000
END:STANDARD
BEGIN:DAYLIGHT
TZOFFSETFROM:+0100
TZOFFSETTO:+0200
TZNAME:CEST
DTSTART:20260329T010000
END:DAYLIGHT
BEGIN:STANDARD
TZOFFSETFROM:+0200
TZOFFSETTO:+0100
TZNAME:CET
DTSTART:20261025T010000
END:STANDARD
BEGIN:DAYLIGHT
TZOFFSETFROM:+0100
TZOFFSETTO:+0200
TZNAME:CEST
DTSTART:20270328T010000
END:DAYLIGHT
BEGIN:STANDARD
TZOFFSETFROM:+0200
TZOFFSETTO:+0100
TZNAME:CET
DTSTART:20271031T010000
END:STANDARD
END:VTIMEZONE
BEGIN:VEVENT
DTSTART;TZID=Europe/Berlin:20261021T163000
DTEND;TZID=Europe/Berlin:20261021T173000
DTSTAMP:20260421T190656
CREATED:20260318T065515Z
LAST-MODIFIED:20260318T065515Z
UID:8709-1792600200-1792603800@ichha.org
SUMMARY:Estudio bíblico en Friedberg
DESCRIPTION:
URL:http://ichha.org/event/estudio-biblico-en-friedberg-61/
CATEGORIES:espanol
ATTACH;FMTTYPE=image/png:http://ichha.org/wp-content/uploads/2019/03/Bibelkreis.png
END:VEVENT
BEGIN:VEVENT
DTSTART;TZID=Europe/Berlin:20261021T163000
DTEND;TZID=Europe/Berlin:20261021T173000
DTSTAMP:20260421T190656
CREATED:20260318T065529Z
LAST-MODIFIED:20260318T065529Z
UID:8713-1792600200-1792603800@ichha.org
SUMMARY:Bibelkreis in Friedberg
DESCRIPTION:
URL:http://ichha.org/event/bibelkreis-in-friedberg-61/
CATEGORIES:deutsch
ATTACH;FMTTYPE=image/png:http://ichha.org/wp-content/uploads/2019/03/Bibelkreis.png
END:VEVENT
BEGIN:VEVENT
DTSTART;TZID=Europe/Berlin:20261022T180000
DTEND;TZID=Europe/Berlin:20261022T190000
DTSTAMP:20260421T190656
CREATED:20260318T065136Z
LAST-MODIFIED:20260318T065136Z
UID:8701-1792692000-1792695600@ichha.org
SUMMARY:Estudio bíblico ONLINE en Kelsterbach. Envíanos un email para participar: info@ichha.org
DESCRIPTION:
URL:http://ichha.org/event/estudio-biblico-online-en-kelsterbach-envianos-un-email-para-participar-infoichha-org-60/
CATEGORIES:espanol
ATTACH;FMTTYPE=image/png:http://ichha.org/wp-content/uploads/2019/03/Bibelkreis.png
END:VEVENT
BEGIN:VEVENT
DTSTART;TZID=Europe/Berlin:20261022T180000
DTEND;TZID=Europe/Berlin:20261022T190000
DTSTAMP:20260421T190656
CREATED:20260318T065336Z
LAST-MODIFIED:20260318T065336Z
UID:8705-1792692000-1792695600@ichha.org
SUMMARY:Bibelkreis ONLINE in Kelsterbach. Um teilzunehmen schick' uns eine Email: info@ichha.org
DESCRIPTION:
URL:http://ichha.org/event/bibelkreis-online-in-kelsterbach-um-teilzunehmen-schick-uns-eine-email-infoichha-org-60/
CATEGORIES:deutsch
ATTACH;FMTTYPE=image/png:http://ichha.org/wp-content/uploads/2019/03/Bibelkreis.png
END:VEVENT
BEGIN:VEVENT
DTSTART;TZID=Europe/Berlin:20261025T160000
DTEND;TZID=Europe/Berlin:20261025T173000
DTSTAMP:20260421T190656
CREATED:20260318T065018Z
LAST-MODIFIED:20260318T065018Z
UID:8686-1792944000-1792949400@ichha.org
SUMMARY:Culto. Tambien en Youtube (vease  vínculo abajo).
DESCRIPTION:
URL:http://ichha.org/event/culto-tambien-en-youtube-vease-vinculo-abajo-64/
LOCATION:FeG Mörfelden\, Daimlerstraße 5\, Mörfelden\, 64546 \, Deutschland
CATEGORIES:espanol
ATTACH;FMTTYPE=image/png:http://ichha.org/wp-content/uploads/2019/03/Gottesdienst.png
END:VEVENT
BEGIN:VEVENT
DTSTART;TZID=Europe/Berlin:20261025T160000
DTEND;TZID=Europe/Berlin:20261025T173000
DTSTAMP:20260421T190656
CREATED:20260318T065021Z
LAST-MODIFIED:20260318T065021Z
UID:8690-1792944000-1792949400@ichha.org
SUMMARY:Gottesdienst. Auch über Youtube (siehe Link ganz unten).
DESCRIPTION:
URL:http://ichha.org/event/gottesdienst-auch-uber-youtube-siehe-link-ganz-unten-64/
LOCATION:FeG Mörfelden\, Daimlerstraße 5\, Mörfelden\, 64546 \, Deutschland
CATEGORIES:deutsch
ATTACH;FMTTYPE=image/png:http://ichha.org/wp-content/uploads/2019/03/Gottesdienst.png
END:VEVENT
BEGIN:VEVENT
DTSTART;TZID=Europe/Berlin:20261027T183000
DTEND;TZID=Europe/Berlin:20261027T193000
DTSTAMP:20260421T190656
CREATED:20260318T065038Z
LAST-MODIFIED:20260318T065038Z
UID:8694-1793125800-1793129400@ichha.org
SUMMARY:Bibelkreis ONLINE in Mörfelden-Walldorf. Um teilzunehmen schick' uns eine Email: info@ichha.org
DESCRIPTION:
URL:http://ichha.org/event/bibelkreis-online-in-morfelden-walldorf-um-teilzunehmen-schick-uns-eine-email-infoichha-org-64/
CATEGORIES:deutsch
ATTACH;FMTTYPE=image/png:http://ichha.org/wp-content/uploads/2019/03/Bibelkreis.png
END:VEVENT
BEGIN:VEVENT
DTSTART;TZID=Europe/Berlin:20261027T183000
DTEND;TZID=Europe/Berlin:20261027T193000
DTSTAMP:20260421T190656
CREATED:20260318T065134Z
LAST-MODIFIED:20260318T065134Z
UID:8698-1793125800-1793129400@ichha.org
SUMMARY:Estudio bíblico ONLINE en Mörfelden-Walldorf. Envíanos un email para participar: info@ichha.org
DESCRIPTION:
URL:http://ichha.org/event/estudio-biblico-online-en-morfelden-walldorf-envianos-un-email-para-participar-infoichha-org-64/
CATEGORIES:espanol
ATTACH;FMTTYPE=image/png:http://ichha.org/wp-content/uploads/2019/03/Bibelkreis.png
END:VEVENT
BEGIN:VEVENT
DTSTART;TZID=Europe/Berlin:20261028T163000
DTEND;TZID=Europe/Berlin:20261028T173000
DTSTAMP:20260421T190656
CREATED:20260318T065516Z
LAST-MODIFIED:20260318T065516Z
UID:8710-1793205000-1793208600@ichha.org
SUMMARY:Estudio bíblico en Friedberg
DESCRIPTION:
URL:http://ichha.org/event/estudio-biblico-en-friedberg-62/
CATEGORIES:espanol
ATTACH;FMTTYPE=image/png:http://ichha.org/wp-content/uploads/2019/03/Bibelkreis.png
END:VEVENT
BEGIN:VEVENT
DTSTART;TZID=Europe/Berlin:20261028T163000
DTEND;TZID=Europe/Berlin:20261028T173000
DTSTAMP:20260421T190656
CREATED:20260318T065529Z
LAST-MODIFIED:20260318T065529Z
UID:8714-1793205000-1793208600@ichha.org
SUMMARY:Bibelkreis in Friedberg
DESCRIPTION:
URL:http://ichha.org/event/bibelkreis-in-friedberg-62/
CATEGORIES:deutsch
ATTACH;FMTTYPE=image/png:http://ichha.org/wp-content/uploads/2019/03/Bibelkreis.png
END:VEVENT
BEGIN:VEVENT
DTSTART;TZID=Europe/Berlin:20261029T180000
DTEND;TZID=Europe/Berlin:20261029T190000
DTSTAMP:20260421T190656
CREATED:20260318T065136Z
LAST-MODIFIED:20260318T065136Z
UID:8702-1793296800-1793300400@ichha.org
SUMMARY:Estudio bíblico ONLINE en Kelsterbach. Envíanos un email para participar: info@ichha.org
DESCRIPTION:
URL:http://ichha.org/event/estudio-biblico-online-en-kelsterbach-envianos-un-email-para-participar-infoichha-org-61/
CATEGORIES:espanol
ATTACH;FMTTYPE=image/png:http://ichha.org/wp-content/uploads/2019/03/Bibelkreis.png
END:VEVENT
BEGIN:VEVENT
DTSTART;TZID=Europe/Berlin:20261029T180000
DTEND;TZID=Europe/Berlin:20261029T190000
DTSTAMP:20260421T190656
CREATED:20260318T065337Z
LAST-MODIFIED:20260318T065337Z
UID:8706-1793296800-1793300400@ichha.org
SUMMARY:Bibelkreis ONLINE in Kelsterbach. Um teilzunehmen schick' uns eine Email: info@ichha.org
DESCRIPTION:
URL:http://ichha.org/event/bibelkreis-online-in-kelsterbach-um-teilzunehmen-schick-uns-eine-email-infoichha-org-61/
CATEGORIES:deutsch
ATTACH;FMTTYPE=image/png:http://ichha.org/wp-content/uploads/2019/03/Bibelkreis.png
END:VEVENT
END:VCALENDAR