BEGIN:VCALENDAR
VERSION:2.0
PRODID:-//ICHHA - ECPv6.15.13//NONSGML v1.0//EN
CALSCALE:GREGORIAN
METHOD:PUBLISH
X-ORIGINAL-URL:http://ichha.org
X-WR-CALDESC:Eventos para ICHHA
REFRESH-INTERVAL;VALUE=DURATION:PT1H
X-Robots-Tag:noindex
X-PUBLISHED-TTL:PT1H
BEGIN:VTIMEZONE
TZID:Europe/Berlin
BEGIN:DAYLIGHT
TZOFFSETFROM:+0100
TZOFFSETTO:+0200
TZNAME:CEST
DTSTART:20250330T010000
END:DAYLIGHT
BEGIN:STANDARD
TZOFFSETFROM:+0200
TZOFFSETTO:+0100
TZNAME:CET
DTSTART:20251026T010000
END:STANDARD
BEGIN:DAYLIGHT
TZOFFSETFROM:+0100
TZOFFSETTO:+0200
TZNAME:CEST
DTSTART:20260329T010000
END:DAYLIGHT
BEGIN:STANDARD
TZOFFSETFROM:+0200
TZOFFSETTO:+0100
TZNAME:CET
DTSTART:20261025T010000
END:STANDARD
BEGIN:DAYLIGHT
TZOFFSETFROM:+0100
TZOFFSETTO:+0200
TZNAME:CEST
DTSTART:20270328T010000
END:DAYLIGHT
BEGIN:STANDARD
TZOFFSETFROM:+0200
TZOFFSETTO:+0100
TZNAME:CET
DTSTART:20271031T010000
END:STANDARD
END:VTIMEZONE
BEGIN:VEVENT
DTSTART;TZID=Europe/Berlin:20260924T180000
DTEND;TZID=Europe/Berlin:20260924T190000
DTSTAMP:20260421T142119
CREATED:20260317T135836Z
LAST-MODIFIED:20260317T135836Z
UID:8664-1790272800-1790276400@ichha.org
SUMMARY:Estudio bíblico ONLINE en Kelsterbach. Envíanos un email para participar: info@ichha.org
DESCRIPTION:
URL:http://ichha.org/event/estudio-biblico-online-en-kelsterbach-envianos-un-email-para-participar-infoichha-org-57/
CATEGORIES:espanol
ATTACH;FMTTYPE=image/png:http://ichha.org/wp-content/uploads/2019/03/Bibelkreis.png
END:VEVENT
BEGIN:VEVENT
DTSTART;TZID=Europe/Berlin:20260924T180000
DTEND;TZID=Europe/Berlin:20260924T190000
DTSTAMP:20260421T142119
CREATED:20260317T135851Z
LAST-MODIFIED:20260317T135851Z
UID:8668-1790272800-1790276400@ichha.org
SUMMARY:Bibelkreis ONLINE in Kelsterbach. Um teilzunehmen schick' uns eine Email: info@ichha.org
DESCRIPTION:
URL:http://ichha.org/event/bibelkreis-online-in-kelsterbach-um-teilzunehmen-schick-uns-eine-email-infoichha-org-57/
CATEGORIES:deutsch
ATTACH;FMTTYPE=image/png:http://ichha.org/wp-content/uploads/2019/03/Bibelkreis.png
END:VEVENT
BEGIN:VEVENT
DTSTART;TZID=Europe/Berlin:20260927T160000
DTEND;TZID=Europe/Berlin:20260927T173000
DTSTAMP:20260421T142119
CREATED:20260317T135736Z
LAST-MODIFIED:20260317T135736Z
UID:8646-1790524800-1790530200@ichha.org
SUMMARY:Culto. Tambien en Youtube (vease  vínculo abajo).
DESCRIPTION:
URL:http://ichha.org/event/culto-tambien-en-youtube-vease-vinculo-abajo-60/
LOCATION:FeG Mörfelden\, Daimlerstraße 5\, Mörfelden\, 64546 \, Deutschland
CATEGORIES:espanol
ATTACH;FMTTYPE=image/png:http://ichha.org/wp-content/uploads/2019/03/Gottesdienst.png
END:VEVENT
BEGIN:VEVENT
DTSTART;TZID=Europe/Berlin:20260927T160000
DTEND;TZID=Europe/Berlin:20260927T173000
DTSTAMP:20260421T142119
CREATED:20260317T135740Z
LAST-MODIFIED:20260317T135740Z
UID:8650-1790524800-1790530200@ichha.org
SUMMARY:Gottesdienst. Auch über Youtube (siehe Link ganz unten).
DESCRIPTION:
URL:http://ichha.org/event/gottesdienst-auch-uber-youtube-siehe-link-ganz-unten-60/
LOCATION:FeG Mörfelden\, Daimlerstraße 5\, Mörfelden\, 64546 \, Deutschland
CATEGORIES:deutsch
ATTACH;FMTTYPE=image/png:http://ichha.org/wp-content/uploads/2019/03/Gottesdienst.png
END:VEVENT
BEGIN:VEVENT
DTSTART;TZID=Europe/Berlin:20260929T183000
DTEND;TZID=Europe/Berlin:20260929T193000
DTSTAMP:20260421T142119
CREATED:20260317T135755Z
LAST-MODIFIED:20260317T135755Z
UID:8655-1790706600-1790710200@ichha.org
SUMMARY:Bibelkreis ONLINE in Mörfelden-Walldorf. Um teilzunehmen schick' uns eine Email: info@ichha.org
DESCRIPTION:
URL:http://ichha.org/event/bibelkreis-online-in-morfelden-walldorf-um-teilzunehmen-schick-uns-eine-email-infoichha-org-60/
CATEGORIES:deutsch
ATTACH;FMTTYPE=image/png:http://ichha.org/wp-content/uploads/2019/03/Bibelkreis.png
END:VEVENT
BEGIN:VEVENT
DTSTART;TZID=Europe/Berlin:20260929T183000
DTEND;TZID=Europe/Berlin:20260929T193000
DTSTAMP:20260421T142119
CREATED:20260317T135810Z
LAST-MODIFIED:20260317T135810Z
UID:8660-1790706600-1790710200@ichha.org
SUMMARY:Estudio bíblico ONLINE en Mörfelden-Walldorf. Envíanos un email para participar: info@ichha.org
DESCRIPTION:
URL:http://ichha.org/event/estudio-biblico-online-en-morfelden-walldorf-envianos-un-email-para-participar-infoichha-org-60/
CATEGORIES:espanol
ATTACH;FMTTYPE=image/png:http://ichha.org/wp-content/uploads/2019/03/Bibelkreis.png
END:VEVENT
BEGIN:VEVENT
DTSTART;TZID=Europe/Berlin:20260930T163000
DTEND;TZID=Europe/Berlin:20260930T173000
DTSTAMP:20260421T142119
CREATED:20260317T135928Z
LAST-MODIFIED:20260317T135928Z
UID:8673-1790785800-1790789400@ichha.org
SUMMARY:Estudio bíblico en Friedberg
DESCRIPTION:
URL:http://ichha.org/event/estudio-biblico-en-friedberg-58/
CATEGORIES:espanol
ATTACH;FMTTYPE=image/png:http://ichha.org/wp-content/uploads/2019/03/Bibelkreis.png
END:VEVENT
BEGIN:VEVENT
DTSTART;TZID=Europe/Berlin:20260930T163000
DTEND;TZID=Europe/Berlin:20260930T173000
DTSTAMP:20260421T142119
CREATED:20260317T135943Z
LAST-MODIFIED:20260317T135943Z
UID:8678-1790785800-1790789400@ichha.org
SUMMARY:Bibelkreis in Friedberg
DESCRIPTION:
URL:http://ichha.org/event/bibelkreis-in-friedberg-58/
CATEGORIES:deutsch
ATTACH;FMTTYPE=image/png:http://ichha.org/wp-content/uploads/2019/03/Bibelkreis.png
END:VEVENT
BEGIN:VEVENT
DTSTART;TZID=Europe/Berlin:20261004T160000
DTEND;TZID=Europe/Berlin:20261004T173000
DTSTAMP:20260421T142119
CREATED:20260318T065017Z
LAST-MODIFIED:20260318T065017Z
UID:8683-1791129600-1791135000@ichha.org
SUMMARY:Culto. Tambien en Youtube (vease  vínculo abajo).
DESCRIPTION:
URL:http://ichha.org/event/culto-tambien-en-youtube-vease-vinculo-abajo-61/
LOCATION:FeG Mörfelden\, Daimlerstraße 5\, Mörfelden\, 64546 \, Deutschland
CATEGORIES:espanol
ATTACH;FMTTYPE=image/png:http://ichha.org/wp-content/uploads/2019/03/Gottesdienst.png
END:VEVENT
BEGIN:VEVENT
DTSTART;TZID=Europe/Berlin:20261004T160000
DTEND;TZID=Europe/Berlin:20261004T173000
DTSTAMP:20260421T142119
CREATED:20260318T065019Z
LAST-MODIFIED:20260318T065019Z
UID:8687-1791129600-1791135000@ichha.org
SUMMARY:Gottesdienst. Auch über Youtube (siehe Link ganz unten).
DESCRIPTION:
URL:http://ichha.org/event/gottesdienst-auch-uber-youtube-siehe-link-ganz-unten-61/
LOCATION:FeG Mörfelden\, Daimlerstraße 5\, Mörfelden\, 64546 \, Deutschland
CATEGORIES:deutsch
ATTACH;FMTTYPE=image/png:http://ichha.org/wp-content/uploads/2019/03/Gottesdienst.png
END:VEVENT
BEGIN:VEVENT
DTSTART;TZID=Europe/Berlin:20261006T183000
DTEND;TZID=Europe/Berlin:20261006T193000
DTSTAMP:20260421T142119
CREATED:20260318T065021Z
LAST-MODIFIED:20260318T065021Z
UID:8691-1791311400-1791315000@ichha.org
SUMMARY:Bibelkreis ONLINE in Mörfelden-Walldorf. Um teilzunehmen schick' uns eine Email: info@ichha.org
DESCRIPTION:
URL:http://ichha.org/event/bibelkreis-online-in-morfelden-walldorf-um-teilzunehmen-schick-uns-eine-email-infoichha-org-61/
CATEGORIES:deutsch
ATTACH;FMTTYPE=image/png:http://ichha.org/wp-content/uploads/2019/03/Bibelkreis.png
END:VEVENT
BEGIN:VEVENT
DTSTART;TZID=Europe/Berlin:20261006T183000
DTEND;TZID=Europe/Berlin:20261006T193000
DTSTAMP:20260421T142119
CREATED:20260318T065038Z
LAST-MODIFIED:20260318T065038Z
UID:8695-1791311400-1791315000@ichha.org
SUMMARY:Estudio bíblico ONLINE en Mörfelden-Walldorf. Envíanos un email para participar: info@ichha.org
DESCRIPTION:
URL:http://ichha.org/event/estudio-biblico-online-en-morfelden-walldorf-envianos-un-email-para-participar-infoichha-org-61/
CATEGORIES:espanol
ATTACH;FMTTYPE=image/png:http://ichha.org/wp-content/uploads/2019/03/Bibelkreis.png
END:VEVENT
BEGIN:VEVENT
DTSTART;TZID=Europe/Berlin:20261007T163000
DTEND;TZID=Europe/Berlin:20261007T173000
DTSTAMP:20260421T142119
CREATED:20260318T065337Z
LAST-MODIFIED:20260318T065337Z
UID:8707-1791390600-1791394200@ichha.org
SUMMARY:Estudio bíblico en Friedberg
DESCRIPTION:
URL:http://ichha.org/event/estudio-biblico-en-friedberg-59/
CATEGORIES:espanol
ATTACH;FMTTYPE=image/png:http://ichha.org/wp-content/uploads/2019/03/Bibelkreis.png
END:VEVENT
BEGIN:VEVENT
DTSTART;TZID=Europe/Berlin:20261007T163000
DTEND;TZID=Europe/Berlin:20261007T173000
DTSTAMP:20260421T142119
CREATED:20260318T065516Z
LAST-MODIFIED:20260318T065516Z
UID:8711-1791390600-1791394200@ichha.org
SUMMARY:Bibelkreis in Friedberg
DESCRIPTION:
URL:http://ichha.org/event/bibelkreis-in-friedberg-59/
CATEGORIES:deutsch
ATTACH;FMTTYPE=image/png:http://ichha.org/wp-content/uploads/2019/03/Bibelkreis.png
END:VEVENT
BEGIN:VEVENT
DTSTART;TZID=Europe/Berlin:20261008T180000
DTEND;TZID=Europe/Berlin:20261008T190000
DTSTAMP:20260421T142119
CREATED:20260318T065135Z
LAST-MODIFIED:20260318T065135Z
UID:8699-1791482400-1791486000@ichha.org
SUMMARY:Estudio bíblico ONLINE en Kelsterbach. Envíanos un email para participar: info@ichha.org
DESCRIPTION:
URL:http://ichha.org/event/estudio-biblico-online-en-kelsterbach-envianos-un-email-para-participar-infoichha-org-58/
CATEGORIES:espanol
ATTACH;FMTTYPE=image/png:http://ichha.org/wp-content/uploads/2019/03/Bibelkreis.png
END:VEVENT
BEGIN:VEVENT
DTSTART;TZID=Europe/Berlin:20261008T180000
DTEND;TZID=Europe/Berlin:20261008T190000
DTSTAMP:20260421T142119
CREATED:20260318T065335Z
LAST-MODIFIED:20260318T065335Z
UID:8703-1791482400-1791486000@ichha.org
SUMMARY:Bibelkreis ONLINE in Kelsterbach. Um teilzunehmen schick' uns eine Email: info@ichha.org
DESCRIPTION:
URL:http://ichha.org/event/bibelkreis-online-in-kelsterbach-um-teilzunehmen-schick-uns-eine-email-infoichha-org-58/
CATEGORIES:deutsch
ATTACH;FMTTYPE=image/png:http://ichha.org/wp-content/uploads/2019/03/Bibelkreis.png
END:VEVENT
BEGIN:VEVENT
DTSTART;TZID=Europe/Berlin:20261010T150000
DTEND;TZID=Europe/Berlin:20261010T170000
DTSTAMP:20260421T142119
CREATED:20260318T065530Z
LAST-MODIFIED:20260318T065530Z
UID:8715-1791644400-1791651600@ichha.org
SUMMARY:Reunión de damas
DESCRIPTION:
URL:http://ichha.org/event/reunion-de-damas-14/
LOCATION:FeG Mörfelden\, Daimlerstraße 5\, Mörfelden\, 64546 \, Deutschland
CATEGORIES:espanol
ATTACH;FMTTYPE=image/png:http://ichha.org/wp-content/uploads/2019/03/Frauentreffen.png
END:VEVENT
BEGIN:VEVENT
DTSTART;TZID=Europe/Berlin:20261010T150000
DTEND;TZID=Europe/Berlin:20261010T170000
DTSTAMP:20260421T142119
CREATED:20260318T065530Z
LAST-MODIFIED:20260318T065530Z
UID:8716-1791644400-1791651600@ichha.org
SUMMARY:Frauentreffen
DESCRIPTION:
URL:http://ichha.org/event/frauentreffen-14/
LOCATION:FeG Mörfelden\, Daimlerstraße 5\, Mörfelden\, 64546 \, Deutschland
CATEGORIES:deutsch
ATTACH;FMTTYPE=image/png:http://ichha.org/wp-content/uploads/2019/03/Frauentreffen.png
END:VEVENT
BEGIN:VEVENT
DTSTART;TZID=Europe/Berlin:20261011T160000
DTEND;TZID=Europe/Berlin:20261011T173000
DTSTAMP:20260421T142119
CREATED:20260318T065017Z
LAST-MODIFIED:20260318T065017Z
UID:8684-1791734400-1791739800@ichha.org
SUMMARY:Culto. Tambien en Youtube (vease  vínculo abajo).
DESCRIPTION:
URL:http://ichha.org/event/culto-tambien-en-youtube-vease-vinculo-abajo-62/
LOCATION:FeG Mörfelden\, Daimlerstraße 5\, Mörfelden\, 64546 \, Deutschland
CATEGORIES:espanol
ATTACH;FMTTYPE=image/png:http://ichha.org/wp-content/uploads/2019/03/Gottesdienst.png
END:VEVENT
BEGIN:VEVENT
DTSTART;TZID=Europe/Berlin:20261011T160000
DTEND;TZID=Europe/Berlin:20261011T173000
DTSTAMP:20260421T142119
CREATED:20260318T065020Z
LAST-MODIFIED:20260318T065020Z
UID:8688-1791734400-1791739800@ichha.org
SUMMARY:Gottesdienst. Auch über Youtube (siehe Link ganz unten).
DESCRIPTION:
URL:http://ichha.org/event/gottesdienst-auch-uber-youtube-siehe-link-ganz-unten-62/
LOCATION:FeG Mörfelden\, Daimlerstraße 5\, Mörfelden\, 64546 \, Deutschland
CATEGORIES:deutsch
ATTACH;FMTTYPE=image/png:http://ichha.org/wp-content/uploads/2019/03/Gottesdienst.png
END:VEVENT
BEGIN:VEVENT
DTSTART;TZID=Europe/Berlin:20261013T183000
DTEND;TZID=Europe/Berlin:20261013T193000
DTSTAMP:20260421T142119
CREATED:20260318T065022Z
LAST-MODIFIED:20260318T065022Z
UID:8692-1791916200-1791919800@ichha.org
SUMMARY:Bibelkreis ONLINE in Mörfelden-Walldorf. Um teilzunehmen schick' uns eine Email: info@ichha.org
DESCRIPTION:
URL:http://ichha.org/event/bibelkreis-online-in-morfelden-walldorf-um-teilzunehmen-schick-uns-eine-email-infoichha-org-62/
CATEGORIES:deutsch
ATTACH;FMTTYPE=image/png:http://ichha.org/wp-content/uploads/2019/03/Bibelkreis.png
END:VEVENT
BEGIN:VEVENT
DTSTART;TZID=Europe/Berlin:20261013T183000
DTEND;TZID=Europe/Berlin:20261013T193000
DTSTAMP:20260421T142119
CREATED:20260318T065039Z
LAST-MODIFIED:20260318T065039Z
UID:8696-1791916200-1791919800@ichha.org
SUMMARY:Estudio bíblico ONLINE en Mörfelden-Walldorf. Envíanos un email para participar: info@ichha.org
DESCRIPTION:
URL:http://ichha.org/event/estudio-biblico-online-en-morfelden-walldorf-envianos-un-email-para-participar-infoichha-org-62/
CATEGORIES:espanol
ATTACH;FMTTYPE=image/png:http://ichha.org/wp-content/uploads/2019/03/Bibelkreis.png
END:VEVENT
BEGIN:VEVENT
DTSTART;TZID=Europe/Berlin:20261014T163000
DTEND;TZID=Europe/Berlin:20261014T173000
DTSTAMP:20260421T142119
CREATED:20260318T065515Z
LAST-MODIFIED:20260318T065515Z
UID:8708-1791995400-1791999000@ichha.org
SUMMARY:Estudio bíblico en Friedberg
DESCRIPTION:
URL:http://ichha.org/event/estudio-biblico-en-friedberg-60/
CATEGORIES:espanol
ATTACH;FMTTYPE=image/png:http://ichha.org/wp-content/uploads/2019/03/Bibelkreis.png
END:VEVENT
BEGIN:VEVENT
DTSTART;TZID=Europe/Berlin:20261014T163000
DTEND;TZID=Europe/Berlin:20261014T173000
DTSTAMP:20260421T142119
CREATED:20260318T065517Z
LAST-MODIFIED:20260318T065517Z
UID:8712-1791995400-1791999000@ichha.org
SUMMARY:Bibelkreis in Friedberg
DESCRIPTION:
URL:http://ichha.org/event/bibelkreis-in-friedberg-60/
CATEGORIES:deutsch
ATTACH;FMTTYPE=image/png:http://ichha.org/wp-content/uploads/2019/03/Bibelkreis.png
END:VEVENT
BEGIN:VEVENT
DTSTART;TZID=Europe/Berlin:20261015T180000
DTEND;TZID=Europe/Berlin:20261015T190000
DTSTAMP:20260421T142119
CREATED:20260318T065135Z
LAST-MODIFIED:20260318T065135Z
UID:8700-1792087200-1792090800@ichha.org
SUMMARY:Estudio bíblico ONLINE en Kelsterbach. Envíanos un email para participar: info@ichha.org
DESCRIPTION:
URL:http://ichha.org/event/estudio-biblico-online-en-kelsterbach-envianos-un-email-para-participar-infoichha-org-59/
CATEGORIES:espanol
ATTACH;FMTTYPE=image/png:http://ichha.org/wp-content/uploads/2019/03/Bibelkreis.png
END:VEVENT
BEGIN:VEVENT
DTSTART;TZID=Europe/Berlin:20261015T180000
DTEND;TZID=Europe/Berlin:20261015T190000
DTSTAMP:20260421T142119
CREATED:20260318T065336Z
LAST-MODIFIED:20260318T065336Z
UID:8704-1792087200-1792090800@ichha.org
SUMMARY:Bibelkreis ONLINE in Kelsterbach. Um teilzunehmen schick' uns eine Email: info@ichha.org
DESCRIPTION:
URL:http://ichha.org/event/bibelkreis-online-in-kelsterbach-um-teilzunehmen-schick-uns-eine-email-infoichha-org-59/
CATEGORIES:deutsch
ATTACH;FMTTYPE=image/png:http://ichha.org/wp-content/uploads/2019/03/Bibelkreis.png
END:VEVENT
BEGIN:VEVENT
DTSTART;TZID=Europe/Berlin:20261018T160000
DTEND;TZID=Europe/Berlin:20261018T173000
DTSTAMP:20260421T142119
CREATED:20260318T065018Z
LAST-MODIFIED:20260318T065018Z
UID:8685-1792339200-1792344600@ichha.org
SUMMARY:Culto. Tambien en Youtube (vease  vínculo abajo).
DESCRIPTION:
URL:http://ichha.org/event/culto-tambien-en-youtube-vease-vinculo-abajo-63/
LOCATION:FeG Mörfelden\, Daimlerstraße 5\, Mörfelden\, 64546 \, Deutschland
CATEGORIES:espanol
ATTACH;FMTTYPE=image/png:http://ichha.org/wp-content/uploads/2019/03/Gottesdienst.png
END:VEVENT
BEGIN:VEVENT
DTSTART;TZID=Europe/Berlin:20261018T160000
DTEND;TZID=Europe/Berlin:20261018T173000
DTSTAMP:20260421T142119
CREATED:20260318T065021Z
LAST-MODIFIED:20260318T065021Z
UID:8689-1792339200-1792344600@ichha.org
SUMMARY:Gottesdienst. Auch über Youtube (siehe Link ganz unten).
DESCRIPTION:
URL:http://ichha.org/event/gottesdienst-auch-uber-youtube-siehe-link-ganz-unten-63/
LOCATION:FeG Mörfelden\, Daimlerstraße 5\, Mörfelden\, 64546 \, Deutschland
CATEGORIES:deutsch
ATTACH;FMTTYPE=image/png:http://ichha.org/wp-content/uploads/2019/03/Gottesdienst.png
END:VEVENT
BEGIN:VEVENT
DTSTART;TZID=Europe/Berlin:20261020T183000
DTEND;TZID=Europe/Berlin:20261020T193000
DTSTAMP:20260421T142119
CREATED:20260318T065037Z
LAST-MODIFIED:20260318T065037Z
UID:8693-1792521000-1792524600@ichha.org
SUMMARY:Bibelkreis ONLINE in Mörfelden-Walldorf. Um teilzunehmen schick' uns eine Email: info@ichha.org
DESCRIPTION:
URL:http://ichha.org/event/bibelkreis-online-in-morfelden-walldorf-um-teilzunehmen-schick-uns-eine-email-infoichha-org-63/
CATEGORIES:deutsch
ATTACH;FMTTYPE=image/png:http://ichha.org/wp-content/uploads/2019/03/Bibelkreis.png
END:VEVENT
BEGIN:VEVENT
DTSTART;TZID=Europe/Berlin:20261020T183000
DTEND;TZID=Europe/Berlin:20261020T193000
DTSTAMP:20260421T142119
CREATED:20260318T065039Z
LAST-MODIFIED:20260318T065039Z
UID:8697-1792521000-1792524600@ichha.org
SUMMARY:Estudio bíblico ONLINE en Mörfelden-Walldorf. Envíanos un email para participar: info@ichha.org
DESCRIPTION:
URL:http://ichha.org/event/estudio-biblico-online-en-morfelden-walldorf-envianos-un-email-para-participar-infoichha-org-63/
CATEGORIES:espanol
ATTACH;FMTTYPE=image/png:http://ichha.org/wp-content/uploads/2019/03/Bibelkreis.png
END:VEVENT
END:VCALENDAR