BEGIN:VCALENDAR
VERSION:2.0
PRODID:-//ICHHA - ECPv6.15.13//NONSGML v1.0//EN
CALSCALE:GREGORIAN
METHOD:PUBLISH
X-ORIGINAL-URL:http://ichha.org
X-WR-CALDESC:Eventos para ICHHA
REFRESH-INTERVAL;VALUE=DURATION:PT1H
X-Robots-Tag:noindex
X-PUBLISHED-TTL:PT1H
BEGIN:VTIMEZONE
TZID:Europe/Berlin
BEGIN:DAYLIGHT
TZOFFSETFROM:+0100
TZOFFSETTO:+0200
TZNAME:CEST
DTSTART:20250330T010000
END:DAYLIGHT
BEGIN:STANDARD
TZOFFSETFROM:+0200
TZOFFSETTO:+0100
TZNAME:CET
DTSTART:20251026T010000
END:STANDARD
BEGIN:DAYLIGHT
TZOFFSETFROM:+0100
TZOFFSETTO:+0200
TZNAME:CEST
DTSTART:20260329T010000
END:DAYLIGHT
BEGIN:STANDARD
TZOFFSETFROM:+0200
TZOFFSETTO:+0100
TZNAME:CET
DTSTART:20261025T010000
END:STANDARD
BEGIN:DAYLIGHT
TZOFFSETFROM:+0100
TZOFFSETTO:+0200
TZNAME:CEST
DTSTART:20270328T010000
END:DAYLIGHT
BEGIN:STANDARD
TZOFFSETFROM:+0200
TZOFFSETTO:+0100
TZNAME:CET
DTSTART:20271031T010000
END:STANDARD
END:VTIMEZONE
BEGIN:VEVENT
DTSTART;TZID=Europe/Berlin:20260811T183000
DTEND;TZID=Europe/Berlin:20260811T193000
DTSTAMP:20260423T130445
CREATED:20260317T135523Z
LAST-MODIFIED:20260317T135523Z
UID:8616-1786473000-1786476600@ichha.org
SUMMARY:Bibelkreis ONLINE in Mörfelden-Walldorf. Um teilzunehmen schick' uns eine Email: info@ichha.org
DESCRIPTION:
URL:http://ichha.org/event/bibelkreis-online-in-morfelden-walldorf-um-teilzunehmen-schick-uns-eine-email-infoichha-org-53/
CATEGORIES:deutsch
ATTACH;FMTTYPE=image/png:http://ichha.org/wp-content/uploads/2019/03/Bibelkreis.png
END:VEVENT
BEGIN:VEVENT
DTSTART;TZID=Europe/Berlin:20260811T183000
DTEND;TZID=Europe/Berlin:20260811T193000
DTSTAMP:20260423T130445
CREATED:20260317T135601Z
LAST-MODIFIED:20260317T135601Z
UID:8620-1786473000-1786476600@ichha.org
SUMMARY:Estudio bíblico ONLINE en Mörfelden-Walldorf. Envíanos un email para participar: info@ichha.org
DESCRIPTION:
URL:http://ichha.org/event/estudio-biblico-online-en-morfelden-walldorf-envianos-un-email-para-participar-infoichha-org-53/
CATEGORIES:espanol
ATTACH;FMTTYPE=image/png:http://ichha.org/wp-content/uploads/2019/03/Bibelkreis.png
END:VEVENT
BEGIN:VEVENT
DTSTART;TZID=Europe/Berlin:20260812T163000
DTEND;TZID=Europe/Berlin:20260812T173000
DTSTAMP:20260423T130445
CREATED:20260317T135632Z
LAST-MODIFIED:20260317T135632Z
UID:8632-1786552200-1786555800@ichha.org
SUMMARY:Estudio bíblico en Friedberg
DESCRIPTION:
URL:http://ichha.org/event/estudio-biblico-en-friedberg-51/
CATEGORIES:espanol
ATTACH;FMTTYPE=image/png:http://ichha.org/wp-content/uploads/2019/03/Bibelkreis.png
END:VEVENT
BEGIN:VEVENT
DTSTART;TZID=Europe/Berlin:20260812T163000
DTEND;TZID=Europe/Berlin:20260812T173000
DTSTAMP:20260423T130445
CREATED:20260317T135646Z
LAST-MODIFIED:20260317T135646Z
UID:8636-1786552200-1786555800@ichha.org
SUMMARY:Bibelkreis in Friedberg
DESCRIPTION:
URL:http://ichha.org/event/bibelkreis-in-friedberg-51/
CATEGORIES:deutsch
ATTACH;FMTTYPE=image/png:http://ichha.org/wp-content/uploads/2019/03/Bibelkreis.png
END:VEVENT
BEGIN:VEVENT
DTSTART;TZID=Europe/Berlin:20260813T180000
DTEND;TZID=Europe/Berlin:20260813T190000
DTSTAMP:20260423T130445
CREATED:20260317T135603Z
LAST-MODIFIED:20260317T135603Z
UID:8624-1786644000-1786647600@ichha.org
SUMMARY:Estudio bíblico ONLINE en Kelsterbach. Envíanos un email para participar: info@ichha.org
DESCRIPTION:
URL:http://ichha.org/event/estudio-biblico-online-en-kelsterbach-envianos-un-email-para-participar-infoichha-org-51/
CATEGORIES:espanol
ATTACH;FMTTYPE=image/png:http://ichha.org/wp-content/uploads/2019/03/Bibelkreis.png
END:VEVENT
BEGIN:VEVENT
DTSTART;TZID=Europe/Berlin:20260813T180000
DTEND;TZID=Europe/Berlin:20260813T190000
DTSTAMP:20260423T130445
CREATED:20260317T135617Z
LAST-MODIFIED:20260317T135617Z
UID:8628-1786644000-1786647600@ichha.org
SUMMARY:Bibelkreis ONLINE in Kelsterbach. Um teilzunehmen schick' uns eine Email: info@ichha.org
DESCRIPTION:
URL:http://ichha.org/event/bibelkreis-online-in-kelsterbach-um-teilzunehmen-schick-uns-eine-email-infoichha-org-51/
CATEGORIES:deutsch
ATTACH;FMTTYPE=image/png:http://ichha.org/wp-content/uploads/2019/03/Bibelkreis.png
END:VEVENT
BEGIN:VEVENT
DTSTART;TZID=Europe/Berlin:20260816T160000
DTEND;TZID=Europe/Berlin:20260816T173000
DTSTAMP:20260423T130445
CREATED:20260317T135503Z
LAST-MODIFIED:20260317T135503Z
UID:8607-1786896000-1786901400@ichha.org
SUMMARY:Culto. Tambien en Youtube (vease  vínculo abajo).
DESCRIPTION:
URL:http://ichha.org/event/culto-tambien-en-youtube-vease-vinculo-abajo-54/
LOCATION:FeG Mörfelden\, Daimlerstraße 5\, Mörfelden\, 64546 \, Deutschland
CATEGORIES:espanol
ATTACH;FMTTYPE=image/png:http://ichha.org/wp-content/uploads/2019/03/Gottesdienst.png
END:VEVENT
BEGIN:VEVENT
DTSTART;TZID=Europe/Berlin:20260816T160000
DTEND;TZID=Europe/Berlin:20260816T173000
DTSTAMP:20260423T130445
CREATED:20260317T135506Z
LAST-MODIFIED:20260319T060921Z
UID:8612-1786896000-1786901400@ichha.org
SUMMARY:Gottesdienst. Auch über Youtube (siehe Link ganz unten).
DESCRIPTION:
URL:http://ichha.org/event/gottesdienst-auch-uber-youtube-siehe-link-ganz-unten-54/
LOCATION:FeG Mörfelden\, Daimlerstraße 5\, Mörfelden\, 64546 \, Deutschland
CATEGORIES:deutsch
ATTACH;FMTTYPE=image/png:http://ichha.org/wp-content/uploads/2019/03/Gottesdienst.png
END:VEVENT
BEGIN:VEVENT
DTSTART;TZID=Europe/Berlin:20260818T183000
DTEND;TZID=Europe/Berlin:20260818T193000
DTSTAMP:20260423T130445
CREATED:20260317T135523Z
LAST-MODIFIED:20260317T135523Z
UID:8617-1787077800-1787081400@ichha.org
SUMMARY:Bibelkreis ONLINE in Mörfelden-Walldorf. Um teilzunehmen schick' uns eine Email: info@ichha.org
DESCRIPTION:
URL:http://ichha.org/event/bibelkreis-online-in-morfelden-walldorf-um-teilzunehmen-schick-uns-eine-email-infoichha-org-54/
CATEGORIES:deutsch
ATTACH;FMTTYPE=image/png:http://ichha.org/wp-content/uploads/2019/03/Bibelkreis.png
END:VEVENT
BEGIN:VEVENT
DTSTART;TZID=Europe/Berlin:20260818T183000
DTEND;TZID=Europe/Berlin:20260818T193000
DTSTAMP:20260423T130445
CREATED:20260317T135601Z
LAST-MODIFIED:20260317T135601Z
UID:8621-1787077800-1787081400@ichha.org
SUMMARY:Estudio bíblico ONLINE en Mörfelden-Walldorf. Envíanos un email para participar: info@ichha.org
DESCRIPTION:
URL:http://ichha.org/event/estudio-biblico-online-en-morfelden-walldorf-envianos-un-email-para-participar-infoichha-org-54/
CATEGORIES:espanol
ATTACH;FMTTYPE=image/png:http://ichha.org/wp-content/uploads/2019/03/Bibelkreis.png
END:VEVENT
BEGIN:VEVENT
DTSTART;TZID=Europe/Berlin:20260819T163000
DTEND;TZID=Europe/Berlin:20260819T173000
DTSTAMP:20260423T130445
CREATED:20260317T135632Z
LAST-MODIFIED:20260317T135632Z
UID:8633-1787157000-1787160600@ichha.org
SUMMARY:Estudio bíblico en Friedberg
DESCRIPTION:
URL:http://ichha.org/event/estudio-biblico-en-friedberg-52/
CATEGORIES:espanol
ATTACH;FMTTYPE=image/png:http://ichha.org/wp-content/uploads/2019/03/Bibelkreis.png
END:VEVENT
BEGIN:VEVENT
DTSTART;TZID=Europe/Berlin:20260819T163000
DTEND;TZID=Europe/Berlin:20260819T173000
DTSTAMP:20260423T130445
CREATED:20260317T135647Z
LAST-MODIFIED:20260317T135647Z
UID:8637-1787157000-1787160600@ichha.org
SUMMARY:Bibelkreis in Friedberg
DESCRIPTION:
URL:http://ichha.org/event/bibelkreis-in-friedberg-52/
CATEGORIES:deutsch
ATTACH;FMTTYPE=image/png:http://ichha.org/wp-content/uploads/2019/03/Bibelkreis.png
END:VEVENT
BEGIN:VEVENT
DTSTART;TZID=Europe/Berlin:20260820T180000
DTEND;TZID=Europe/Berlin:20260820T190000
DTSTAMP:20260423T130445
CREATED:20260317T135616Z
LAST-MODIFIED:20260317T135616Z
UID:8625-1787248800-1787252400@ichha.org
SUMMARY:Estudio bíblico ONLINE en Kelsterbach. Envíanos un email para participar: info@ichha.org
DESCRIPTION:
URL:http://ichha.org/event/estudio-biblico-online-en-kelsterbach-envianos-un-email-para-participar-infoichha-org-52/
CATEGORIES:espanol
ATTACH;FMTTYPE=image/png:http://ichha.org/wp-content/uploads/2019/03/Bibelkreis.png
END:VEVENT
BEGIN:VEVENT
DTSTART;TZID=Europe/Berlin:20260820T180000
DTEND;TZID=Europe/Berlin:20260820T190000
DTSTAMP:20260423T130445
CREATED:20260317T135617Z
LAST-MODIFIED:20260317T135617Z
UID:8629-1787248800-1787252400@ichha.org
SUMMARY:Bibelkreis ONLINE in Kelsterbach. Um teilzunehmen schick' uns eine Email: info@ichha.org
DESCRIPTION:
URL:http://ichha.org/event/bibelkreis-online-in-kelsterbach-um-teilzunehmen-schick-uns-eine-email-infoichha-org-52/
CATEGORIES:deutsch
ATTACH;FMTTYPE=image/png:http://ichha.org/wp-content/uploads/2019/03/Bibelkreis.png
END:VEVENT
BEGIN:VEVENT
DTSTART;TZID=Europe/Berlin:20260823T160000
DTEND;TZID=Europe/Berlin:20260823T173000
DTSTAMP:20260423T130445
CREATED:20260317T135503Z
LAST-MODIFIED:20260317T135503Z
UID:8608-1787500800-1787506200@ichha.org
SUMMARY:Culto. Tambien en Youtube (vease  vínculo abajo).
DESCRIPTION:
URL:http://ichha.org/event/culto-tambien-en-youtube-vease-vinculo-abajo-55/
LOCATION:FeG Mörfelden\, Daimlerstraße 5\, Mörfelden\, 64546 \, Deutschland
CATEGORIES:espanol
ATTACH;FMTTYPE=image/png:http://ichha.org/wp-content/uploads/2019/03/Gottesdienst.png
END:VEVENT
BEGIN:VEVENT
DTSTART;TZID=Europe/Berlin:20260823T160000
DTEND;TZID=Europe/Berlin:20260823T173000
DTSTAMP:20260423T130445
CREATED:20260317T135506Z
LAST-MODIFIED:20260319T060908Z
UID:8613-1787500800-1787506200@ichha.org
SUMMARY:Gottesdienst. Auch über Youtube (siehe Link ganz unten).
DESCRIPTION:
URL:http://ichha.org/event/gottesdienst-auch-uber-youtube-siehe-link-ganz-unten-55/
LOCATION:FeG Mörfelden\, Daimlerstraße 5\, Mörfelden\, 64546 \, Deutschland
CATEGORIES:deutsch
ATTACH;FMTTYPE=image/png:http://ichha.org/wp-content/uploads/2019/03/Gottesdienst.png
END:VEVENT
BEGIN:VEVENT
DTSTART;TZID=Europe/Berlin:20260825T183000
DTEND;TZID=Europe/Berlin:20260825T193000
DTSTAMP:20260423T130445
CREATED:20260317T135523Z
LAST-MODIFIED:20260317T135523Z
UID:8618-1787682600-1787686200@ichha.org
SUMMARY:Bibelkreis ONLINE in Mörfelden-Walldorf. Um teilzunehmen schick' uns eine Email: info@ichha.org
DESCRIPTION:
URL:http://ichha.org/event/bibelkreis-online-in-morfelden-walldorf-um-teilzunehmen-schick-uns-eine-email-infoichha-org-55/
CATEGORIES:deutsch
ATTACH;FMTTYPE=image/png:http://ichha.org/wp-content/uploads/2019/03/Bibelkreis.png
END:VEVENT
BEGIN:VEVENT
DTSTART;TZID=Europe/Berlin:20260825T183000
DTEND;TZID=Europe/Berlin:20260825T193000
DTSTAMP:20260423T130445
CREATED:20260317T135602Z
LAST-MODIFIED:20260317T135602Z
UID:8622-1787682600-1787686200@ichha.org
SUMMARY:Estudio bíblico ONLINE en Mörfelden-Walldorf. Envíanos un email para participar: info@ichha.org
DESCRIPTION:
URL:http://ichha.org/event/estudio-biblico-online-en-morfelden-walldorf-envianos-un-email-para-participar-infoichha-org-55/
CATEGORIES:espanol
ATTACH;FMTTYPE=image/png:http://ichha.org/wp-content/uploads/2019/03/Bibelkreis.png
END:VEVENT
BEGIN:VEVENT
DTSTART;TZID=Europe/Berlin:20260826T163000
DTEND;TZID=Europe/Berlin:20260826T173000
DTSTAMP:20260423T130445
CREATED:20260317T135633Z
LAST-MODIFIED:20260317T135633Z
UID:8634-1787761800-1787765400@ichha.org
SUMMARY:Estudio bíblico en Friedberg
DESCRIPTION:
URL:http://ichha.org/event/estudio-biblico-en-friedberg-53/
CATEGORIES:espanol
ATTACH;FMTTYPE=image/png:http://ichha.org/wp-content/uploads/2019/03/Bibelkreis.png
END:VEVENT
BEGIN:VEVENT
DTSTART;TZID=Europe/Berlin:20260826T163000
DTEND;TZID=Europe/Berlin:20260826T173000
DTSTAMP:20260423T130445
CREATED:20260317T135647Z
LAST-MODIFIED:20260317T135647Z
UID:8638-1787761800-1787765400@ichha.org
SUMMARY:Bibelkreis in Friedberg
DESCRIPTION:
URL:http://ichha.org/event/bibelkreis-in-friedberg-53/
CATEGORIES:deutsch
ATTACH;FMTTYPE=image/png:http://ichha.org/wp-content/uploads/2019/03/Bibelkreis.png
END:VEVENT
BEGIN:VEVENT
DTSTART;TZID=Europe/Berlin:20260827T180000
DTEND;TZID=Europe/Berlin:20260827T190000
DTSTAMP:20260423T130445
CREATED:20260317T135616Z
LAST-MODIFIED:20260317T135616Z
UID:8626-1787853600-1787857200@ichha.org
SUMMARY:Estudio bíblico ONLINE en Kelsterbach. Envíanos un email para participar: info@ichha.org
DESCRIPTION:
URL:http://ichha.org/event/estudio-biblico-online-en-kelsterbach-envianos-un-email-para-participar-infoichha-org-53/
CATEGORIES:espanol
ATTACH;FMTTYPE=image/png:http://ichha.org/wp-content/uploads/2019/03/Bibelkreis.png
END:VEVENT
BEGIN:VEVENT
DTSTART;TZID=Europe/Berlin:20260827T180000
DTEND;TZID=Europe/Berlin:20260827T190000
DTSTAMP:20260423T130445
CREATED:20260317T135631Z
LAST-MODIFIED:20260317T135631Z
UID:8630-1787853600-1787857200@ichha.org
SUMMARY:Bibelkreis ONLINE in Kelsterbach. Um teilzunehmen schick' uns eine Email: info@ichha.org
DESCRIPTION:
URL:http://ichha.org/event/bibelkreis-online-in-kelsterbach-um-teilzunehmen-schick-uns-eine-email-infoichha-org-53/
CATEGORIES:deutsch
ATTACH;FMTTYPE=image/png:http://ichha.org/wp-content/uploads/2019/03/Bibelkreis.png
END:VEVENT
BEGIN:VEVENT
DTSTART;TZID=Europe/Berlin:20260830T160000
DTEND;TZID=Europe/Berlin:20260830T173000
DTSTAMP:20260423T130445
CREATED:20260317T135504Z
LAST-MODIFIED:20260317T135504Z
UID:8609-1788105600-1788111000@ichha.org
SUMMARY:Culto. Tambien en Youtube (vease  vínculo abajo).
DESCRIPTION:
URL:http://ichha.org/event/culto-tambien-en-youtube-vease-vinculo-abajo-56/
LOCATION:FeG Mörfelden\, Daimlerstraße 5\, Mörfelden\, 64546 \, Deutschland
CATEGORIES:espanol
ATTACH;FMTTYPE=image/png:http://ichha.org/wp-content/uploads/2019/03/Gottesdienst.png
END:VEVENT
BEGIN:VEVENT
DTSTART;TZID=Europe/Berlin:20260830T160000
DTEND;TZID=Europe/Berlin:20260830T173000
DTSTAMP:20260423T130445
CREATED:20260317T135507Z
LAST-MODIFIED:20260319T060854Z
UID:8614-1788105600-1788111000@ichha.org
SUMMARY:Gottesdienst. Auch über Youtube (siehe Link ganz unten).
DESCRIPTION:
URL:http://ichha.org/event/gottesdienst-auch-uber-youtube-siehe-link-ganz-unten-56/
LOCATION:FeG Mörfelden\, Daimlerstraße 5\, Mörfelden\, 64546 \, Deutschland
CATEGORIES:deutsch
ATTACH;FMTTYPE=image/png:http://ichha.org/wp-content/uploads/2019/03/Gottesdienst.png
END:VEVENT
BEGIN:VEVENT
DTSTART;TZID=Europe/Berlin:20260901T183000
DTEND;TZID=Europe/Berlin:20260901T193000
DTSTAMP:20260423T130445
CREATED:20260317T135740Z
LAST-MODIFIED:20260317T135740Z
UID:8651-1788287400-1788291000@ichha.org
SUMMARY:Bibelkreis ONLINE in Mörfelden-Walldorf. Um teilzunehmen schick' uns eine Email: info@ichha.org
DESCRIPTION:
URL:http://ichha.org/event/bibelkreis-online-in-morfelden-walldorf-um-teilzunehmen-schick-uns-eine-email-infoichha-org-56/
CATEGORIES:deutsch
ATTACH;FMTTYPE=image/png:http://ichha.org/wp-content/uploads/2019/03/Bibelkreis.png
END:VEVENT
BEGIN:VEVENT
DTSTART;TZID=Europe/Berlin:20260901T183000
DTEND;TZID=Europe/Berlin:20260901T193000
DTSTAMP:20260423T130445
CREATED:20260317T135756Z
LAST-MODIFIED:20260317T135756Z
UID:8656-1788287400-1788291000@ichha.org
SUMMARY:Estudio bíblico ONLINE en Mörfelden-Walldorf. Envíanos un email para participar: info@ichha.org
DESCRIPTION:
URL:http://ichha.org/event/estudio-biblico-online-en-morfelden-walldorf-envianos-un-email-para-participar-infoichha-org-56/
CATEGORIES:espanol
ATTACH;FMTTYPE=image/png:http://ichha.org/wp-content/uploads/2019/03/Bibelkreis.png
END:VEVENT
BEGIN:VEVENT
DTSTART;TZID=Europe/Berlin:20260902T163000
DTEND;TZID=Europe/Berlin:20260902T173000
DTSTAMP:20260423T130445
CREATED:20260317T135851Z
LAST-MODIFIED:20260317T135851Z
UID:8669-1788366600-1788370200@ichha.org
SUMMARY:Estudio bíblico en Friedberg
DESCRIPTION:
URL:http://ichha.org/event/estudio-biblico-en-friedberg-54/
CATEGORIES:espanol
ATTACH;FMTTYPE=image/png:http://ichha.org/wp-content/uploads/2019/03/Bibelkreis.png
END:VEVENT
BEGIN:VEVENT
DTSTART;TZID=Europe/Berlin:20260902T163000
DTEND;TZID=Europe/Berlin:20260902T173000
DTSTAMP:20260423T130445
CREATED:20260317T135928Z
LAST-MODIFIED:20260317T135928Z
UID:8674-1788366600-1788370200@ichha.org
SUMMARY:Bibelkreis in Friedberg
DESCRIPTION:
URL:http://ichha.org/event/bibelkreis-in-friedberg-54/
CATEGORIES:deutsch
ATTACH;FMTTYPE=image/png:http://ichha.org/wp-content/uploads/2019/03/Bibelkreis.png
END:VEVENT
BEGIN:VEVENT
DTSTART;TZID=Europe/Berlin:20260903T180000
DTEND;TZID=Europe/Berlin:20260903T190000
DTSTAMP:20260423T130445
CREATED:20260317T135811Z
LAST-MODIFIED:20260317T135811Z
UID:8661-1788458400-1788462000@ichha.org
SUMMARY:Estudio bíblico ONLINE en Kelsterbach. Envíanos un email para participar: info@ichha.org
DESCRIPTION:
URL:http://ichha.org/event/estudio-biblico-online-en-kelsterbach-envianos-un-email-para-participar-infoichha-org-54/
CATEGORIES:espanol
ATTACH;FMTTYPE=image/png:http://ichha.org/wp-content/uploads/2019/03/Bibelkreis.png
END:VEVENT
BEGIN:VEVENT
DTSTART;TZID=Europe/Berlin:20260903T180000
DTEND;TZID=Europe/Berlin:20260903T190000
DTSTAMP:20260423T130445
CREATED:20260317T135837Z
LAST-MODIFIED:20260317T135837Z
UID:8665-1788458400-1788462000@ichha.org
SUMMARY:Bibelkreis ONLINE in Kelsterbach. Um teilzunehmen schick' uns eine Email: info@ichha.org
DESCRIPTION:
URL:http://ichha.org/event/bibelkreis-online-in-kelsterbach-um-teilzunehmen-schick-uns-eine-email-infoichha-org-54/
CATEGORIES:deutsch
ATTACH;FMTTYPE=image/png:http://ichha.org/wp-content/uploads/2019/03/Bibelkreis.png
END:VEVENT
END:VCALENDAR