BEGIN:VCALENDAR
VERSION:2.0
PRODID:-//ICHHA - ECPv6.15.13//NONSGML v1.0//EN
CALSCALE:GREGORIAN
METHOD:PUBLISH
X-WR-CALNAME:ICHHA
X-ORIGINAL-URL:http://ichha.org
X-WR-CALDESC:Eventos para ICHHA
REFRESH-INTERVAL;VALUE=DURATION:PT1H
X-Robots-Tag:noindex
X-PUBLISHED-TTL:PT1H
BEGIN:VTIMEZONE
TZID:Europe/Berlin
BEGIN:DAYLIGHT
TZOFFSETFROM:+0100
TZOFFSETTO:+0200
TZNAME:CEST
DTSTART:20250330T010000
END:DAYLIGHT
BEGIN:STANDARD
TZOFFSETFROM:+0200
TZOFFSETTO:+0100
TZNAME:CET
DTSTART:20251026T010000
END:STANDARD
BEGIN:DAYLIGHT
TZOFFSETFROM:+0100
TZOFFSETTO:+0200
TZNAME:CEST
DTSTART:20260329T010000
END:DAYLIGHT
BEGIN:STANDARD
TZOFFSETFROM:+0200
TZOFFSETTO:+0100
TZNAME:CET
DTSTART:20261025T010000
END:STANDARD
BEGIN:DAYLIGHT
TZOFFSETFROM:+0100
TZOFFSETTO:+0200
TZNAME:CEST
DTSTART:20270328T010000
END:DAYLIGHT
BEGIN:STANDARD
TZOFFSETFROM:+0200
TZOFFSETTO:+0100
TZNAME:CET
DTSTART:20271031T010000
END:STANDARD
END:VTIMEZONE
BEGIN:VEVENT
DTSTART;TZID=Europe/Berlin:20260609T183000
DTEND;TZID=Europe/Berlin:20260609T193000
DTSTAMP:20260421T232542
CREATED:20260202T074052Z
LAST-MODIFIED:20260202T074052Z
UID:8525-1781029800-1781033400@ichha.org
SUMMARY:Bibelkreis ONLINE in Mörfelden-Walldorf. Um teilzunehmen schick' uns eine Email: info@ichha.org
DESCRIPTION:
URL:http://ichha.org/event/bibelkreis-online-in-morfelden-walldorf-um-teilzunehmen-schick-uns-eine-email-infoichha-org-32/
CATEGORIES:deutsch
ATTACH;FMTTYPE=image/png:http://ichha.org/wp-content/uploads/2019/03/Bibelkreis.png
END:VEVENT
BEGIN:VEVENT
DTSTART;TZID=Europe/Berlin:20260609T183000
DTEND;TZID=Europe/Berlin:20260609T193000
DTSTAMP:20260421T232542
CREATED:20260202T074108Z
LAST-MODIFIED:20260202T074108Z
UID:8530-1781029800-1781033400@ichha.org
SUMMARY:Estudio bíblico ONLINE en Mörfelden-Walldorf. Envíanos un email para participar: info@ichha.org
DESCRIPTION:
URL:http://ichha.org/event/estudio-biblico-online-en-morfelden-walldorf-envianos-un-email-para-participar-infoichha-org-32/
CATEGORIES:espanol
ATTACH;FMTTYPE=image/png:http://ichha.org/wp-content/uploads/2019/03/Bibelkreis.png
END:VEVENT
BEGIN:VEVENT
DTSTART;TZID=Europe/Berlin:20260610T163000
DTEND;TZID=Europe/Berlin:20260610T173000
DTSTAMP:20260421T232542
CREATED:20260202T074323Z
LAST-MODIFIED:20260202T074323Z
UID:8543-1781109000-1781112600@ichha.org
SUMMARY:Estudio bíblico en Friedberg
DESCRIPTION:
URL:http://ichha.org/event/estudio-biblico-en-friedberg-30/
CATEGORIES:espanol
ATTACH;FMTTYPE=image/png:http://ichha.org/wp-content/uploads/2019/03/Bibelkreis.png
END:VEVENT
BEGIN:VEVENT
DTSTART;TZID=Europe/Berlin:20260610T163000
DTEND;TZID=Europe/Berlin:20260610T173000
DTSTAMP:20260421T232542
CREATED:20260202T074338Z
LAST-MODIFIED:20260202T074338Z
UID:8547-1781109000-1781112600@ichha.org
SUMMARY:Bibelkreis in Friedberg
DESCRIPTION:
URL:http://ichha.org/event/bibelkreis-in-friedberg-30/
CATEGORIES:deutsch
ATTACH;FMTTYPE=image/png:http://ichha.org/wp-content/uploads/2019/03/Bibelkreis.png
END:VEVENT
BEGIN:VEVENT
DTSTART;TZID=Europe/Berlin:20260611T180000
DTEND;TZID=Europe/Berlin:20260611T190000
DTSTAMP:20260421T232542
CREATED:20260202T074207Z
LAST-MODIFIED:20260202T074207Z
UID:8535-1781200800-1781204400@ichha.org
SUMMARY:Estudio bíblico ONLINE en Kelsterbach. Envíanos un email para participar: info@ichha.org
DESCRIPTION:
URL:http://ichha.org/event/estudio-biblico-online-en-kelsterbach-envianos-un-email-para-participar-infoichha-org-30/
CATEGORIES:espanol
ATTACH;FMTTYPE=image/png:http://ichha.org/wp-content/uploads/2019/03/Bibelkreis.png
END:VEVENT
BEGIN:VEVENT
DTSTART;TZID=Europe/Berlin:20260611T180000
DTEND;TZID=Europe/Berlin:20260611T190000
DTSTAMP:20260421T232542
CREATED:20260202T074222Z
LAST-MODIFIED:20260202T074222Z
UID:8539-1781200800-1781204400@ichha.org
SUMMARY:Bibelkreis ONLINE in Kelsterbach. Um teilzunehmen schick' uns eine Email: info@ichha.org
DESCRIPTION:
URL:http://ichha.org/event/bibelkreis-online-in-kelsterbach-um-teilzunehmen-schick-uns-eine-email-infoichha-org-30/
CATEGORIES:deutsch
ATTACH;FMTTYPE=image/png:http://ichha.org/wp-content/uploads/2019/03/Bibelkreis.png
END:VEVENT
BEGIN:VEVENT
DTSTART;TZID=Europe/Berlin:20260613T150000
DTEND;TZID=Europe/Berlin:20260613T170000
DTSTAMP:20260421T232542
CREATED:20260202T074339Z
LAST-MODIFIED:20260202T074339Z
UID:8550-1781362800-1781370000@ichha.org
SUMMARY:Reunión de damas
DESCRIPTION:
URL:http://ichha.org/event/reunion-de-damas-8/
LOCATION:FeG Mörfelden\, Daimlerstraße 5\, Mörfelden\, 64546 \, Deutschland
CATEGORIES:espanol
ATTACH;FMTTYPE=image/png:http://ichha.org/wp-content/uploads/2019/03/Frauentreffen.png
END:VEVENT
BEGIN:VEVENT
DTSTART;TZID=Europe/Berlin:20260613T150000
DTEND;TZID=Europe/Berlin:20260613T170000
DTSTAMP:20260421T232542
CREATED:20260202T074352Z
LAST-MODIFIED:20260202T074352Z
UID:8551-1781362800-1781370000@ichha.org
SUMMARY:Frauentreffen
DESCRIPTION:
URL:http://ichha.org/event/frauentreffen-8/
LOCATION:FeG Mörfelden\, Daimlerstraße 5\, Mörfelden\, 64546 \, Deutschland
CATEGORIES:deutsch
ATTACH;FMTTYPE=image/png:http://ichha.org/wp-content/uploads/2019/03/Frauentreffen.png
END:VEVENT
BEGIN:VEVENT
DTSTART;TZID=Europe/Berlin:20260614T160000
DTEND;TZID=Europe/Berlin:20260614T173000
DTSTAMP:20260421T232542
CREATED:20260202T074046Z
LAST-MODIFIED:20260202T074046Z
UID:8517-1781452800-1781458200@ichha.org
SUMMARY:Culto. Tambien en Youtube (vease  vínculo abajo).
DESCRIPTION:
URL:http://ichha.org/event/culto-tambien-en-youtube-vease-vinculo-abajo-33/
LOCATION:FeG Mörfelden\, Daimlerstraße 5\, Mörfelden\, 64546 \, Deutschland
CATEGORIES:espanol
ATTACH;FMTTYPE=image/png:http://ichha.org/wp-content/uploads/2019/03/Gottesdienst.png
END:VEVENT
BEGIN:VEVENT
DTSTART;TZID=Europe/Berlin:20260614T160000
DTEND;TZID=Europe/Berlin:20260614T173000
DTSTAMP:20260421T232542
CREATED:20260202T074050Z
LAST-MODIFIED:20260202T074050Z
UID:8521-1781452800-1781458200@ichha.org
SUMMARY:Gottesdienst. Auch über Youtube (siehe Link ganz unten).
DESCRIPTION:
URL:http://ichha.org/event/gottesdienst-auch-uber-youtube-siehe-link-ganz-unten-33/
LOCATION:FeG Mörfelden\, Daimlerstraße 5\, Mörfelden\, 64546 \, Deutschland
CATEGORIES:deutsch
ATTACH;FMTTYPE=image/png:http://ichha.org/wp-content/uploads/2019/03/Gottesdienst.png
END:VEVENT
BEGIN:VEVENT
DTSTART;TZID=Europe/Berlin:20260616T183000
DTEND;TZID=Europe/Berlin:20260616T193000
DTSTAMP:20260421T232542
CREATED:20260202T074106Z
LAST-MODIFIED:20260202T074106Z
UID:8526-1781634600-1781638200@ichha.org
SUMMARY:Bibelkreis ONLINE in Mörfelden-Walldorf. Um teilzunehmen schick' uns eine Email: info@ichha.org
DESCRIPTION:
URL:http://ichha.org/event/bibelkreis-online-in-morfelden-walldorf-um-teilzunehmen-schick-uns-eine-email-infoichha-org-33/
CATEGORIES:deutsch
ATTACH;FMTTYPE=image/png:http://ichha.org/wp-content/uploads/2019/03/Bibelkreis.png
END:VEVENT
BEGIN:VEVENT
DTSTART;TZID=Europe/Berlin:20260616T183000
DTEND;TZID=Europe/Berlin:20260616T193000
DTSTAMP:20260421T232542
CREATED:20260202T074205Z
LAST-MODIFIED:20260202T074205Z
UID:8531-1781634600-1781638200@ichha.org
SUMMARY:Estudio bíblico ONLINE en Mörfelden-Walldorf. Envíanos un email para participar: info@ichha.org
DESCRIPTION:
URL:http://ichha.org/event/estudio-biblico-online-en-morfelden-walldorf-envianos-un-email-para-participar-infoichha-org-33/
CATEGORIES:espanol
ATTACH;FMTTYPE=image/png:http://ichha.org/wp-content/uploads/2019/03/Bibelkreis.png
END:VEVENT
BEGIN:VEVENT
DTSTART;TZID=Europe/Berlin:20260617T163000
DTEND;TZID=Europe/Berlin:20260617T173000
DTSTAMP:20260421T232542
CREATED:20260202T074324Z
LAST-MODIFIED:20260202T074324Z
UID:8544-1781713800-1781717400@ichha.org
SUMMARY:Estudio bíblico en Friedberg
DESCRIPTION:
URL:http://ichha.org/event/estudio-biblico-en-friedberg-31/
CATEGORIES:espanol
ATTACH;FMTTYPE=image/png:http://ichha.org/wp-content/uploads/2019/03/Bibelkreis.png
END:VEVENT
BEGIN:VEVENT
DTSTART;TZID=Europe/Berlin:20260617T163000
DTEND;TZID=Europe/Berlin:20260617T173000
DTSTAMP:20260421T232542
CREATED:20260202T074338Z
LAST-MODIFIED:20260202T074338Z
UID:8548-1781713800-1781717400@ichha.org
SUMMARY:Bibelkreis in Friedberg
DESCRIPTION:
URL:http://ichha.org/event/bibelkreis-in-friedberg-31/
CATEGORIES:deutsch
ATTACH;FMTTYPE=image/png:http://ichha.org/wp-content/uploads/2019/03/Bibelkreis.png
END:VEVENT
BEGIN:VEVENT
DTSTART;TZID=Europe/Berlin:20260618T180000
DTEND;TZID=Europe/Berlin:20260618T190000
DTSTAMP:20260421T232542
CREATED:20260202T074220Z
LAST-MODIFIED:20260202T074220Z
UID:8536-1781805600-1781809200@ichha.org
SUMMARY:Estudio bíblico ONLINE en Kelsterbach. Envíanos un email para participar: info@ichha.org
DESCRIPTION:
URL:http://ichha.org/event/estudio-biblico-online-en-kelsterbach-envianos-un-email-para-participar-infoichha-org-31/
CATEGORIES:espanol
ATTACH;FMTTYPE=image/png:http://ichha.org/wp-content/uploads/2019/03/Bibelkreis.png
END:VEVENT
BEGIN:VEVENT
DTSTART;TZID=Europe/Berlin:20260618T180000
DTEND;TZID=Europe/Berlin:20260618T190000
DTSTAMP:20260421T232542
CREATED:20260202T074223Z
LAST-MODIFIED:20260202T074223Z
UID:8540-1781805600-1781809200@ichha.org
SUMMARY:Bibelkreis ONLINE in Kelsterbach. Um teilzunehmen schick' uns eine Email: info@ichha.org
DESCRIPTION:
URL:http://ichha.org/event/bibelkreis-online-in-kelsterbach-um-teilzunehmen-schick-uns-eine-email-infoichha-org-31/
CATEGORIES:deutsch
ATTACH;FMTTYPE=image/png:http://ichha.org/wp-content/uploads/2019/03/Bibelkreis.png
END:VEVENT
BEGIN:VEVENT
DTSTART;TZID=Europe/Berlin:20260621T160000
DTEND;TZID=Europe/Berlin:20260621T173000
DTSTAMP:20260421T232542
CREATED:20260202T074047Z
LAST-MODIFIED:20260202T074047Z
UID:8518-1782057600-1782063000@ichha.org
SUMMARY:Culto. Tambien en Youtube (vease  vínculo abajo).
DESCRIPTION:
URL:http://ichha.org/event/culto-tambien-en-youtube-vease-vinculo-abajo-34/
LOCATION:FeG Mörfelden\, Daimlerstraße 5\, Mörfelden\, 64546 \, Deutschland
CATEGORIES:espanol
ATTACH;FMTTYPE=image/png:http://ichha.org/wp-content/uploads/2019/03/Gottesdienst.png
END:VEVENT
BEGIN:VEVENT
DTSTART;TZID=Europe/Berlin:20260621T160000
DTEND;TZID=Europe/Berlin:20260621T173000
DTSTAMP:20260421T232542
CREATED:20260202T074050Z
LAST-MODIFIED:20260202T074050Z
UID:8522-1782057600-1782063000@ichha.org
SUMMARY:Gottesdienst. Auch über Youtube (siehe Link ganz unten).
DESCRIPTION:
URL:http://ichha.org/event/gottesdienst-auch-uber-youtube-siehe-link-ganz-unten-34/
LOCATION:FeG Mörfelden\, Daimlerstraße 5\, Mörfelden\, 64546 \, Deutschland
CATEGORIES:deutsch
ATTACH;FMTTYPE=image/png:http://ichha.org/wp-content/uploads/2019/03/Gottesdienst.png
END:VEVENT
BEGIN:VEVENT
DTSTART;TZID=Europe/Berlin:20260623T183000
DTEND;TZID=Europe/Berlin:20260623T193000
DTSTAMP:20260421T232542
CREATED:20260202T074106Z
LAST-MODIFIED:20260202T074106Z
UID:8527-1782239400-1782243000@ichha.org
SUMMARY:Bibelkreis ONLINE in Mörfelden-Walldorf. Um teilzunehmen schick' uns eine Email: info@ichha.org
DESCRIPTION:
URL:http://ichha.org/event/bibelkreis-online-in-morfelden-walldorf-um-teilzunehmen-schick-uns-eine-email-infoichha-org-34/
CATEGORIES:deutsch
ATTACH;FMTTYPE=image/png:http://ichha.org/wp-content/uploads/2019/03/Bibelkreis.png
END:VEVENT
BEGIN:VEVENT
DTSTART;TZID=Europe/Berlin:20260623T183000
DTEND;TZID=Europe/Berlin:20260623T193000
DTSTAMP:20260421T232542
CREATED:20260202T074206Z
LAST-MODIFIED:20260202T074206Z
UID:8532-1782239400-1782243000@ichha.org
SUMMARY:Estudio bíblico ONLINE en Mörfelden-Walldorf. Envíanos un email para participar: info@ichha.org
DESCRIPTION:
URL:http://ichha.org/event/estudio-biblico-online-en-morfelden-walldorf-envianos-un-email-para-participar-infoichha-org-34/
CATEGORIES:espanol
ATTACH;FMTTYPE=image/png:http://ichha.org/wp-content/uploads/2019/03/Bibelkreis.png
END:VEVENT
BEGIN:VEVENT
DTSTART;TZID=Europe/Berlin:20260624T163000
DTEND;TZID=Europe/Berlin:20260624T173000
DTSTAMP:20260421T232542
CREATED:20260202T074324Z
LAST-MODIFIED:20260202T074324Z
UID:8545-1782318600-1782322200@ichha.org
SUMMARY:Estudio bíblico en Friedberg
DESCRIPTION:
URL:http://ichha.org/event/estudio-biblico-en-friedberg-32/
CATEGORIES:espanol
ATTACH;FMTTYPE=image/png:http://ichha.org/wp-content/uploads/2019/03/Bibelkreis.png
END:VEVENT
BEGIN:VEVENT
DTSTART;TZID=Europe/Berlin:20260624T163000
DTEND;TZID=Europe/Berlin:20260624T173000
DTSTAMP:20260421T232542
CREATED:20260202T074339Z
LAST-MODIFIED:20260202T074339Z
UID:8549-1782318600-1782322200@ichha.org
SUMMARY:Bibelkreis in Friedberg
DESCRIPTION:
URL:http://ichha.org/event/bibelkreis-in-friedberg-32/
CATEGORIES:deutsch
ATTACH;FMTTYPE=image/png:http://ichha.org/wp-content/uploads/2019/03/Bibelkreis.png
END:VEVENT
BEGIN:VEVENT
DTSTART;TZID=Europe/Berlin:20260625T180000
DTEND;TZID=Europe/Berlin:20260625T190000
DTSTAMP:20260421T232542
CREATED:20260202T074221Z
LAST-MODIFIED:20260202T074221Z
UID:8537-1782410400-1782414000@ichha.org
SUMMARY:Estudio bíblico ONLINE en Kelsterbach. Envíanos un email para participar: info@ichha.org
DESCRIPTION:
URL:http://ichha.org/event/estudio-biblico-online-en-kelsterbach-envianos-un-email-para-participar-infoichha-org-32/
CATEGORIES:espanol
ATTACH;FMTTYPE=image/png:http://ichha.org/wp-content/uploads/2019/03/Bibelkreis.png
END:VEVENT
BEGIN:VEVENT
DTSTART;TZID=Europe/Berlin:20260625T180000
DTEND;TZID=Europe/Berlin:20260625T190000
DTSTAMP:20260421T232542
CREATED:20260202T074322Z
LAST-MODIFIED:20260202T074322Z
UID:8541-1782410400-1782414000@ichha.org
SUMMARY:Bibelkreis ONLINE in Kelsterbach. Um teilzunehmen schick' uns eine Email: info@ichha.org
DESCRIPTION:
URL:http://ichha.org/event/bibelkreis-online-in-kelsterbach-um-teilzunehmen-schick-uns-eine-email-infoichha-org-32/
CATEGORIES:deutsch
ATTACH;FMTTYPE=image/png:http://ichha.org/wp-content/uploads/2019/03/Bibelkreis.png
END:VEVENT
BEGIN:VEVENT
DTSTART;TZID=Europe/Berlin:20260628T160000
DTEND;TZID=Europe/Berlin:20260628T173000
DTSTAMP:20260421T232542
CREATED:20260202T074047Z
LAST-MODIFIED:20260202T074047Z
UID:8519-1782662400-1782667800@ichha.org
SUMMARY:Culto. Tambien en Youtube (vease  vínculo abajo).
DESCRIPTION:
URL:http://ichha.org/event/culto-tambien-en-youtube-vease-vinculo-abajo-35/
LOCATION:FeG Mörfelden\, Daimlerstraße 5\, Mörfelden\, 64546 \, Deutschland
CATEGORIES:espanol
ATTACH;FMTTYPE=image/png:http://ichha.org/wp-content/uploads/2019/03/Gottesdienst.png
END:VEVENT
BEGIN:VEVENT
DTSTART;TZID=Europe/Berlin:20260628T160000
DTEND;TZID=Europe/Berlin:20260628T173000
DTSTAMP:20260421T232542
CREATED:20260202T074051Z
LAST-MODIFIED:20260202T074051Z
UID:8523-1782662400-1782667800@ichha.org
SUMMARY:Gottesdienst. Auch über Youtube (siehe Link ganz unten).
DESCRIPTION:
URL:http://ichha.org/event/gottesdienst-auch-uber-youtube-siehe-link-ganz-unten-35/
LOCATION:FeG Mörfelden\, Daimlerstraße 5\, Mörfelden\, 64546 \, Deutschland
CATEGORIES:deutsch
ATTACH;FMTTYPE=image/png:http://ichha.org/wp-content/uploads/2019/03/Gottesdienst.png
END:VEVENT
BEGIN:VEVENT
DTSTART;TZID=Europe/Berlin:20260630T183000
DTEND;TZID=Europe/Berlin:20260630T193000
DTSTAMP:20260421T232542
CREATED:20260202T074107Z
LAST-MODIFIED:20260202T074107Z
UID:8528-1782844200-1782847800@ichha.org
SUMMARY:Bibelkreis ONLINE in Mörfelden-Walldorf. Um teilzunehmen schick' uns eine Email: info@ichha.org
DESCRIPTION:
URL:http://ichha.org/event/bibelkreis-online-in-morfelden-walldorf-um-teilzunehmen-schick-uns-eine-email-infoichha-org-35/
CATEGORIES:deutsch
ATTACH;FMTTYPE=image/png:http://ichha.org/wp-content/uploads/2019/03/Bibelkreis.png
END:VEVENT
BEGIN:VEVENT
DTSTART;TZID=Europe/Berlin:20260630T183000
DTEND;TZID=Europe/Berlin:20260630T193000
DTSTAMP:20260421T232542
CREATED:20260202T074206Z
LAST-MODIFIED:20260202T074206Z
UID:8533-1782844200-1782847800@ichha.org
SUMMARY:Estudio bíblico ONLINE en Mörfelden-Walldorf. Envíanos un email para participar: info@ichha.org
DESCRIPTION:
URL:http://ichha.org/event/estudio-biblico-online-en-morfelden-walldorf-envianos-un-email-para-participar-infoichha-org-35/
CATEGORIES:espanol
ATTACH;FMTTYPE=image/png:http://ichha.org/wp-content/uploads/2019/03/Bibelkreis.png
END:VEVENT
BEGIN:VEVENT
DTSTART;TZID=Europe/Berlin:20260701T163000
DTEND;TZID=Europe/Berlin:20260701T173000
DTSTAMP:20260421T232542
CREATED:20260317T135404Z
LAST-MODIFIED:20260317T135404Z
UID:8591-1782923400-1782927000@ichha.org
SUMMARY:Estudio bíblico en Friedberg
DESCRIPTION:
URL:http://ichha.org/event/estudio-biblico-en-friedberg-33/
CATEGORIES:espanol
ATTACH;FMTTYPE=image/png:http://ichha.org/wp-content/uploads/2019/03/Bibelkreis.png
END:VEVENT
BEGIN:VEVENT
DTSTART;TZID=Europe/Berlin:20260701T163000
DTEND;TZID=Europe/Berlin:20260701T173000
DTSTAMP:20260421T232542
CREATED:20260317T135419Z
LAST-MODIFIED:20260317T135419Z
UID:8596-1782923400-1782927000@ichha.org
SUMMARY:Bibelkreis in Friedberg
DESCRIPTION:
URL:http://ichha.org/event/bibelkreis-in-friedberg-33/
CATEGORIES:deutsch
ATTACH;FMTTYPE=image/png:http://ichha.org/wp-content/uploads/2019/03/Bibelkreis.png
END:VEVENT
END:VCALENDAR