BEGIN:VCALENDAR
VERSION:2.0
PRODID:-//ICHHA - ECPv6.15.13//NONSGML v1.0//EN
CALSCALE:GREGORIAN
METHOD:PUBLISH
X-WR-CALNAME:ICHHA
X-ORIGINAL-URL:http://ichha.org
X-WR-CALDESC:Eventos para ICHHA
REFRESH-INTERVAL;VALUE=DURATION:PT1H
X-Robots-Tag:noindex
X-PUBLISHED-TTL:PT1H
BEGIN:VTIMEZONE
TZID:Europe/Berlin
BEGIN:DAYLIGHT
TZOFFSETFROM:+0100
TZOFFSETTO:+0200
TZNAME:CEST
DTSTART:20250330T010000
END:DAYLIGHT
BEGIN:STANDARD
TZOFFSETFROM:+0200
TZOFFSETTO:+0100
TZNAME:CET
DTSTART:20251026T010000
END:STANDARD
BEGIN:DAYLIGHT
TZOFFSETFROM:+0100
TZOFFSETTO:+0200
TZNAME:CEST
DTSTART:20260329T010000
END:DAYLIGHT
BEGIN:STANDARD
TZOFFSETFROM:+0200
TZOFFSETTO:+0100
TZNAME:CET
DTSTART:20261025T010000
END:STANDARD
BEGIN:DAYLIGHT
TZOFFSETFROM:+0100
TZOFFSETTO:+0200
TZNAME:CEST
DTSTART:20270328T010000
END:DAYLIGHT
BEGIN:STANDARD
TZOFFSETFROM:+0200
TZOFFSETTO:+0100
TZNAME:CET
DTSTART:20271031T010000
END:STANDARD
END:VTIMEZONE
BEGIN:VEVENT
DTSTART;TZID=Europe/Berlin:20260201T160000
DTEND;TZID=Europe/Berlin:20260201T173000
DTSTAMP:20260421T120556
CREATED:20251201T115347Z
LAST-MODIFIED:20251201T115347Z
UID:8359-1769961600-1769967000@ichha.org
SUMMARY:Culto. Tambien en Youtube (vease  vínculo abajo).
DESCRIPTION:
URL:http://ichha.org/event/culto-tambien-en-youtube-vease-vinculo-abajo-14/
LOCATION:FeG Mörfelden\, Daimlerstraße 5\, Mörfelden\, 64546 \, Deutschland
CATEGORIES:espanol
ATTACH;FMTTYPE=image/png:http://ichha.org/wp-content/uploads/2019/03/Gottesdienst.png
END:VEVENT
BEGIN:VEVENT
DTSTART;TZID=Europe/Berlin:20260203T183000
DTEND;TZID=Europe/Berlin:20260203T193000
DTSTAMP:20260421T120556
CREATED:20251201T115410Z
LAST-MODIFIED:20251201T115410Z
UID:8371-1770143400-1770147000@ichha.org
SUMMARY:Estudio bíblico ONLINE en Mörfelden-Walldorf. Envíanos un email para participar: info@ichha.org
DESCRIPTION:
URL:http://ichha.org/event/estudio-biblico-online-en-morfelden-walldorf-envianos-un-email-para-participar-infoichha-org-14/
CATEGORIES:espanol
ATTACH;FMTTYPE=image/png:http://ichha.org/wp-content/uploads/2019/03/Bibelkreis.png
END:VEVENT
BEGIN:VEVENT
DTSTART;TZID=Europe/Berlin:20260204T163000
DTEND;TZID=Europe/Berlin:20260204T173000
DTSTAMP:20260421T120556
CREATED:20251201T115811Z
LAST-MODIFIED:20251201T115811Z
UID:8383-1770222600-1770226200@ichha.org
SUMMARY:Estudio bíblico en Friedberg
DESCRIPTION:
URL:http://ichha.org/event/estudio-biblico-en-friedberg-12/
CATEGORIES:espanol
ATTACH;FMTTYPE=image/png:http://ichha.org/wp-content/uploads/2019/03/Bibelkreis.png
END:VEVENT
BEGIN:VEVENT
DTSTART;TZID=Europe/Berlin:20260205T180000
DTEND;TZID=Europe/Berlin:20260205T190000
DTSTAMP:20260421T120556
CREATED:20251201T115609Z
LAST-MODIFIED:20251201T115609Z
UID:8375-1770314400-1770318000@ichha.org
SUMMARY:Estudio bíblico ONLINE en Kelsterbach. Envíanos un email para participar: info@ichha.org
DESCRIPTION:
URL:http://ichha.org/event/estudio-biblico-online-en-kelsterbach-envianos-un-email-para-participar-infoichha-org-12/
CATEGORIES:espanol
ATTACH;FMTTYPE=image/png:http://ichha.org/wp-content/uploads/2019/03/Bibelkreis.png
END:VEVENT
BEGIN:VEVENT
DTSTART;TZID=Europe/Berlin:20260208T160000
DTEND;TZID=Europe/Berlin:20260208T173000
DTSTAMP:20260421T120556
CREATED:20251201T115348Z
LAST-MODIFIED:20251201T115348Z
UID:8360-1770566400-1770571800@ichha.org
SUMMARY:Culto. Tambien en Youtube (vease  vínculo abajo).
DESCRIPTION:
URL:http://ichha.org/event/culto-tambien-en-youtube-vease-vinculo-abajo-15/
LOCATION:FeG Mörfelden\, Daimlerstraße 5\, Mörfelden\, 64546 \, Deutschland
CATEGORIES:espanol
ATTACH;FMTTYPE=image/png:http://ichha.org/wp-content/uploads/2019/03/Gottesdienst.png
END:VEVENT
BEGIN:VEVENT
DTSTART;TZID=Europe/Berlin:20260210T183000
DTEND;TZID=Europe/Berlin:20260210T193000
DTSTAMP:20260421T120556
CREATED:20251201T115411Z
LAST-MODIFIED:20251201T115411Z
UID:8372-1770748200-1770751800@ichha.org
SUMMARY:Estudio bíblico ONLINE en Mörfelden-Walldorf. Envíanos un email para participar: info@ichha.org
DESCRIPTION:
URL:http://ichha.org/event/estudio-biblico-online-en-morfelden-walldorf-envianos-un-email-para-participar-infoichha-org-15/
CATEGORIES:espanol
ATTACH;FMTTYPE=image/png:http://ichha.org/wp-content/uploads/2019/03/Bibelkreis.png
END:VEVENT
BEGIN:VEVENT
DTSTART;TZID=Europe/Berlin:20260211T163000
DTEND;TZID=Europe/Berlin:20260211T173000
DTSTAMP:20260421T120556
CREATED:20251201T115958Z
LAST-MODIFIED:20251201T115958Z
UID:8384-1770827400-1770831000@ichha.org
SUMMARY:Estudio bíblico en Friedberg
DESCRIPTION:
URL:http://ichha.org/event/estudio-biblico-en-friedberg-13/
CATEGORIES:espanol
ATTACH;FMTTYPE=image/png:http://ichha.org/wp-content/uploads/2019/03/Bibelkreis.png
END:VEVENT
BEGIN:VEVENT
DTSTART;TZID=Europe/Berlin:20260212T180000
DTEND;TZID=Europe/Berlin:20260212T190000
DTSTAMP:20260421T120556
CREATED:20251201T115609Z
LAST-MODIFIED:20251201T115609Z
UID:8376-1770919200-1770922800@ichha.org
SUMMARY:Estudio bíblico ONLINE en Kelsterbach. Envíanos un email para participar: info@ichha.org
DESCRIPTION:
URL:http://ichha.org/event/estudio-biblico-online-en-kelsterbach-envianos-un-email-para-participar-infoichha-org-13/
CATEGORIES:espanol
ATTACH;FMTTYPE=image/png:http://ichha.org/wp-content/uploads/2019/03/Bibelkreis.png
END:VEVENT
BEGIN:VEVENT
DTSTART;TZID=Europe/Berlin:20260214T150000
DTEND;TZID=Europe/Berlin:20260214T170000
DTSTAMP:20260421T120556
CREATED:20251201T120013Z
LAST-MODIFIED:20251201T120013Z
UID:8391-1771081200-1771088400@ichha.org
SUMMARY:Reunión de damas
DESCRIPTION:
URL:http://ichha.org/event/reunion-de-damas-4/
LOCATION:FeG Mörfelden\, Daimlerstraße 5\, Mörfelden\, 64546 \, Deutschland
CATEGORIES:espanol
ATTACH;FMTTYPE=image/png:http://ichha.org/wp-content/uploads/2019/03/Frauentreffen.png
END:VEVENT
BEGIN:VEVENT
DTSTART;TZID=Europe/Berlin:20260214T153000
DTEND;TZID=Europe/Berlin:20260214T173000
DTSTAMP:20260421T120556
CREATED:20260212T083721Z
LAST-MODIFIED:20260212T083721Z
UID:8555-1771083000-1771090200@ichha.org
SUMMARY:Reunión de hombres
DESCRIPTION:
URL:http://ichha.org/event/reunion-de-hombres/
LOCATION:FeG Mörfelden\, Daimlerstraße 5\, Mörfelden\, 64546 \, Deutschland
CATEGORIES:espanol
ATTACH;FMTTYPE=image/png:http://ichha.org/wp-content/uploads/2022/09/Maennertreffen.png
END:VEVENT
BEGIN:VEVENT
DTSTART;TZID=Europe/Berlin:20260215T160000
DTEND;TZID=Europe/Berlin:20260215T173000
DTSTAMP:20260421T120556
CREATED:20251201T115349Z
LAST-MODIFIED:20251201T115349Z
UID:8361-1771171200-1771176600@ichha.org
SUMMARY:Culto. Tambien en Youtube (vease  vínculo abajo).
DESCRIPTION:
URL:http://ichha.org/event/culto-tambien-en-youtube-vease-vinculo-abajo-16/
LOCATION:FeG Mörfelden\, Daimlerstraße 5\, Mörfelden\, 64546 \, Deutschland
CATEGORIES:espanol
ATTACH;FMTTYPE=image/png:http://ichha.org/wp-content/uploads/2019/03/Gottesdienst.png
END:VEVENT
BEGIN:VEVENT
DTSTART;TZID=Europe/Berlin:20260217T183000
DTEND;TZID=Europe/Berlin:20260217T193000
DTSTAMP:20260421T120556
CREATED:20251201T115411Z
LAST-MODIFIED:20251201T115411Z
UID:8373-1771353000-1771356600@ichha.org
SUMMARY:Estudio bíblico ONLINE en Mörfelden-Walldorf. Envíanos un email para participar: info@ichha.org
DESCRIPTION:
URL:http://ichha.org/event/estudio-biblico-online-en-morfelden-walldorf-envianos-un-email-para-participar-infoichha-org-16/
CATEGORIES:espanol
ATTACH;FMTTYPE=image/png:http://ichha.org/wp-content/uploads/2019/03/Bibelkreis.png
END:VEVENT
BEGIN:VEVENT
DTSTART;TZID=Europe/Berlin:20260218T163000
DTEND;TZID=Europe/Berlin:20260218T173000
DTSTAMP:20260421T120556
CREATED:20251201T115959Z
LAST-MODIFIED:20251201T115959Z
UID:8385-1771432200-1771435800@ichha.org
SUMMARY:Estudio bíblico en Friedberg
DESCRIPTION:
URL:http://ichha.org/event/estudio-biblico-en-friedberg-14/
CATEGORIES:espanol
ATTACH;FMTTYPE=image/png:http://ichha.org/wp-content/uploads/2019/03/Bibelkreis.png
END:VEVENT
BEGIN:VEVENT
DTSTART;TZID=Europe/Berlin:20260219T180000
DTEND;TZID=Europe/Berlin:20260219T190000
DTSTAMP:20260421T120556
CREATED:20251201T115610Z
LAST-MODIFIED:20251201T115610Z
UID:8377-1771524000-1771527600@ichha.org
SUMMARY:Estudio bíblico ONLINE en Kelsterbach. Envíanos un email para participar: info@ichha.org
DESCRIPTION:
URL:http://ichha.org/event/estudio-biblico-online-en-kelsterbach-envianos-un-email-para-participar-infoichha-org-14/
CATEGORIES:espanol
ATTACH;FMTTYPE=image/png:http://ichha.org/wp-content/uploads/2019/03/Bibelkreis.png
END:VEVENT
BEGIN:VEVENT
DTSTART;TZID=Europe/Berlin:20260222T160000
DTEND;TZID=Europe/Berlin:20260222T173000
DTSTAMP:20260421T120556
CREATED:20251201T115350Z
LAST-MODIFIED:20251201T115350Z
UID:8362-1771776000-1771781400@ichha.org
SUMMARY:Culto. Tambien en Youtube (vease  vínculo abajo).
DESCRIPTION:
URL:http://ichha.org/event/culto-tambien-en-youtube-vease-vinculo-abajo-17/
LOCATION:FeG Mörfelden\, Daimlerstraße 5\, Mörfelden\, 64546 \, Deutschland
CATEGORIES:espanol
ATTACH;FMTTYPE=image/png:http://ichha.org/wp-content/uploads/2019/03/Gottesdienst.png
END:VEVENT
BEGIN:VEVENT
DTSTART;TZID=Europe/Berlin:20260224T183000
DTEND;TZID=Europe/Berlin:20260224T193000
DTSTAMP:20260421T120556
CREATED:20251201T115608Z
LAST-MODIFIED:20251201T115608Z
UID:8374-1771957800-1771961400@ichha.org
SUMMARY:Estudio bíblico ONLINE en Mörfelden-Walldorf. Envíanos un email para participar: info@ichha.org
DESCRIPTION:
URL:http://ichha.org/event/estudio-biblico-online-en-morfelden-walldorf-envianos-un-email-para-participar-infoichha-org-17/
CATEGORIES:espanol
ATTACH;FMTTYPE=image/png:http://ichha.org/wp-content/uploads/2019/03/Bibelkreis.png
END:VEVENT
BEGIN:VEVENT
DTSTART;TZID=Europe/Berlin:20260225T163000
DTEND;TZID=Europe/Berlin:20260225T173000
DTSTAMP:20260421T120556
CREATED:20251201T115959Z
LAST-MODIFIED:20251201T115959Z
UID:8386-1772037000-1772040600@ichha.org
SUMMARY:Estudio bíblico en Friedberg
DESCRIPTION:
URL:http://ichha.org/event/estudio-biblico-en-friedberg-15/
CATEGORIES:espanol
ATTACH;FMTTYPE=image/png:http://ichha.org/wp-content/uploads/2019/03/Bibelkreis.png
END:VEVENT
BEGIN:VEVENT
DTSTART;TZID=Europe/Berlin:20260226T180000
DTEND;TZID=Europe/Berlin:20260226T190000
DTSTAMP:20260421T120556
CREATED:20251201T115610Z
LAST-MODIFIED:20251201T115610Z
UID:8378-1772128800-1772132400@ichha.org
SUMMARY:Estudio bíblico ONLINE en Kelsterbach. Envíanos un email para participar: info@ichha.org
DESCRIPTION:
URL:http://ichha.org/event/estudio-biblico-online-en-kelsterbach-envianos-un-email-para-participar-infoichha-org-15/
CATEGORIES:espanol
ATTACH;FMTTYPE=image/png:http://ichha.org/wp-content/uploads/2019/03/Bibelkreis.png
END:VEVENT
END:VCALENDAR