BEGIN:VCALENDAR
VERSION:2.0
PRODID:-//ICHHA - ECPv6.15.13//NONSGML v1.0//EN
CALSCALE:GREGORIAN
METHOD:PUBLISH
X-ORIGINAL-URL:http://ichha.org
X-WR-CALDESC:Eventos para ICHHA
REFRESH-INTERVAL;VALUE=DURATION:PT1H
X-Robots-Tag:noindex
X-PUBLISHED-TTL:PT1H
BEGIN:VTIMEZONE
TZID:Europe/Berlin
BEGIN:DAYLIGHT
TZOFFSETFROM:+0100
TZOFFSETTO:+0200
TZNAME:CEST
DTSTART:20250330T010000
END:DAYLIGHT
BEGIN:STANDARD
TZOFFSETFROM:+0200
TZOFFSETTO:+0100
TZNAME:CET
DTSTART:20251026T010000
END:STANDARD
BEGIN:DAYLIGHT
TZOFFSETFROM:+0100
TZOFFSETTO:+0200
TZNAME:CEST
DTSTART:20260329T010000
END:DAYLIGHT
BEGIN:STANDARD
TZOFFSETFROM:+0200
TZOFFSETTO:+0100
TZNAME:CET
DTSTART:20261025T010000
END:STANDARD
BEGIN:DAYLIGHT
TZOFFSETFROM:+0100
TZOFFSETTO:+0200
TZNAME:CEST
DTSTART:20270328T010000
END:DAYLIGHT
BEGIN:STANDARD
TZOFFSETFROM:+0200
TZOFFSETTO:+0100
TZNAME:CET
DTSTART:20271031T010000
END:STANDARD
END:VTIMEZONE
BEGIN:VEVENT
DTSTART;TZID=Europe/Berlin:20260104T160000
DTEND;TZID=Europe/Berlin:20260104T173000
DTSTAMP:20260421T150926
CREATED:20250828T071432Z
LAST-MODIFIED:20250828T071432Z
UID:8302-1767542400-1767547800@ichha.org
SUMMARY:Culto. Tambien en Youtube (vease  vínculo abajo).
DESCRIPTION:
URL:http://ichha.org/event/culto-tambien-en-youtube-vease-vinculo-abajo-10/
LOCATION:FeG Mörfelden\, Daimlerstraße 5\, Mörfelden\, 64546 \, Deutschland
CATEGORIES:espanol
ATTACH;FMTTYPE=image/png:http://ichha.org/wp-content/uploads/2019/03/Gottesdienst.png
END:VEVENT
BEGIN:VEVENT
DTSTART;TZID=Europe/Berlin:20260106T183000
DTEND;TZID=Europe/Berlin:20260106T193000
DTSTAMP:20260421T150926
CREATED:20250828T071456Z
LAST-MODIFIED:20250828T071456Z
UID:8314-1767724200-1767727800@ichha.org
SUMMARY:Estudio bíblico ONLINE en Mörfelden-Walldorf. Envíanos un email para participar: info@ichha.org
DESCRIPTION:
URL:http://ichha.org/event/estudio-biblico-online-en-morfelden-walldorf-envianos-un-email-para-participar-infoichha-org-10/
CATEGORIES:espanol
ATTACH;FMTTYPE=image/png:http://ichha.org/wp-content/uploads/2019/03/Bibelkreis.png
END:VEVENT
BEGIN:VEVENT
DTSTART;TZID=Europe/Berlin:20260107T163000
DTEND;TZID=Europe/Berlin:20260107T173000
DTSTAMP:20260421T150926
CREATED:20250828T071526Z
LAST-MODIFIED:20250828T071526Z
UID:8326-1767803400-1767807000@ichha.org
SUMMARY:Estudio bíblico en Friedberg
DESCRIPTION:
URL:http://ichha.org/event/estudio-biblico-en-friedberg-8/
CATEGORIES:espanol
ATTACH;FMTTYPE=image/png:http://ichha.org/wp-content/uploads/2019/03/Bibelkreis.png
END:VEVENT
BEGIN:VEVENT
DTSTART;TZID=Europe/Berlin:20260108T180000
DTEND;TZID=Europe/Berlin:20260108T190000
DTSTAMP:20260421T150926
CREATED:20250828T071509Z
LAST-MODIFIED:20250828T071509Z
UID:8318-1767895200-1767898800@ichha.org
SUMMARY:Estudio bíblico ONLINE en Kelsterbach. Envíanos un email para participar: info@ichha.org
DESCRIPTION:
URL:http://ichha.org/event/estudio-biblico-online-en-kelsterbach-envianos-un-email-para-participar-infoichha-org-8/
CATEGORIES:espanol
ATTACH;FMTTYPE=image/png:http://ichha.org/wp-content/uploads/2019/03/Bibelkreis.png
END:VEVENT
BEGIN:VEVENT
DTSTART;TZID=Europe/Berlin:20260110T150000
DTEND;TZID=Europe/Berlin:20260110T170000
DTSTAMP:20260421T150926
CREATED:20250828T071741Z
LAST-MODIFIED:20250829T115748Z
UID:8334-1768057200-1768064400@ichha.org
SUMMARY:Reunión de damas
DESCRIPTION:
URL:http://ichha.org/event/reunion-de-damas-3/
LOCATION:FeG Mörfelden\, Daimlerstraße 5\, Mörfelden\, 64546 \, Deutschland
CATEGORIES:espanol
ATTACH;FMTTYPE=image/png:http://ichha.org/wp-content/uploads/2019/03/Frauentreffen.png
END:VEVENT
BEGIN:VEVENT
DTSTART;TZID=Europe/Berlin:20260111T160000
DTEND;TZID=Europe/Berlin:20260111T173000
DTSTAMP:20260421T150926
CREATED:20250828T071433Z
LAST-MODIFIED:20250828T071433Z
UID:8303-1768147200-1768152600@ichha.org
SUMMARY:Culto. Tambien en Youtube (vease  vínculo abajo).
DESCRIPTION:
URL:http://ichha.org/event/culto-tambien-en-youtube-vease-vinculo-abajo-11/
LOCATION:FeG Mörfelden\, Daimlerstraße 5\, Mörfelden\, 64546 \, Deutschland
CATEGORIES:espanol
ATTACH;FMTTYPE=image/png:http://ichha.org/wp-content/uploads/2019/03/Gottesdienst.png
END:VEVENT
BEGIN:VEVENT
DTSTART;TZID=Europe/Berlin:20260113T183000
DTEND;TZID=Europe/Berlin:20260113T193000
DTSTAMP:20260421T150926
CREATED:20250828T071456Z
LAST-MODIFIED:20250828T071456Z
UID:8315-1768329000-1768332600@ichha.org
SUMMARY:Estudio bíblico ONLINE en Mörfelden-Walldorf. Envíanos un email para participar: info@ichha.org
DESCRIPTION:
URL:http://ichha.org/event/estudio-biblico-online-en-morfelden-walldorf-envianos-un-email-para-participar-infoichha-org-11/
CATEGORIES:espanol
ATTACH;FMTTYPE=image/png:http://ichha.org/wp-content/uploads/2019/03/Bibelkreis.png
END:VEVENT
BEGIN:VEVENT
DTSTART;TZID=Europe/Berlin:20260114T163000
DTEND;TZID=Europe/Berlin:20260114T173000
DTSTAMP:20260421T150926
CREATED:20250828T071539Z
LAST-MODIFIED:20250828T071539Z
UID:8327-1768408200-1768411800@ichha.org
SUMMARY:Estudio bíblico en Friedberg
DESCRIPTION:
URL:http://ichha.org/event/estudio-biblico-en-friedberg-9/
CATEGORIES:espanol
ATTACH;FMTTYPE=image/png:http://ichha.org/wp-content/uploads/2019/03/Bibelkreis.png
END:VEVENT
BEGIN:VEVENT
DTSTART;TZID=Europe/Berlin:20260115T180000
DTEND;TZID=Europe/Berlin:20260115T190000
DTSTAMP:20260421T150926
CREATED:20250828T071510Z
LAST-MODIFIED:20250828T071510Z
UID:8319-1768500000-1768503600@ichha.org
SUMMARY:Estudio bíblico ONLINE en Kelsterbach. Envíanos un email para participar: info@ichha.org
DESCRIPTION:
URL:http://ichha.org/event/estudio-biblico-online-en-kelsterbach-envianos-un-email-para-participar-infoichha-org-9/
CATEGORIES:espanol
ATTACH;FMTTYPE=image/png:http://ichha.org/wp-content/uploads/2019/03/Bibelkreis.png
END:VEVENT
BEGIN:VEVENT
DTSTART;TZID=Europe/Berlin:20260118T160000
DTEND;TZID=Europe/Berlin:20260118T173000
DTSTAMP:20260421T150926
CREATED:20250828T071434Z
LAST-MODIFIED:20250828T071434Z
UID:8304-1768752000-1768757400@ichha.org
SUMMARY:Culto. Tambien en Youtube (vease  vínculo abajo).
DESCRIPTION:
URL:http://ichha.org/event/culto-tambien-en-youtube-vease-vinculo-abajo-12/
LOCATION:FeG Mörfelden\, Daimlerstraße 5\, Mörfelden\, 64546 \, Deutschland
CATEGORIES:espanol
ATTACH;FMTTYPE=image/png:http://ichha.org/wp-content/uploads/2019/03/Gottesdienst.png
END:VEVENT
BEGIN:VEVENT
DTSTART;TZID=Europe/Berlin:20260120T183000
DTEND;TZID=Europe/Berlin:20260120T193000
DTSTAMP:20260421T150926
CREATED:20250828T071457Z
LAST-MODIFIED:20250828T071457Z
UID:8316-1768933800-1768937400@ichha.org
SUMMARY:Estudio bíblico ONLINE en Mörfelden-Walldorf. Envíanos un email para participar: info@ichha.org
DESCRIPTION:
URL:http://ichha.org/event/estudio-biblico-online-en-morfelden-walldorf-envianos-un-email-para-participar-infoichha-org-12/
CATEGORIES:espanol
ATTACH;FMTTYPE=image/png:http://ichha.org/wp-content/uploads/2019/03/Bibelkreis.png
END:VEVENT
BEGIN:VEVENT
DTSTART;TZID=Europe/Berlin:20260121T163000
DTEND;TZID=Europe/Berlin:20260121T173000
DTSTAMP:20260421T150926
CREATED:20250828T071540Z
LAST-MODIFIED:20250828T071540Z
UID:8328-1769013000-1769016600@ichha.org
SUMMARY:Estudio bíblico en Friedberg
DESCRIPTION:
URL:http://ichha.org/event/estudio-biblico-en-friedberg-10/
CATEGORIES:espanol
ATTACH;FMTTYPE=image/png:http://ichha.org/wp-content/uploads/2019/03/Bibelkreis.png
END:VEVENT
BEGIN:VEVENT
DTSTART;TZID=Europe/Berlin:20260122T180000
DTEND;TZID=Europe/Berlin:20260122T190000
DTSTAMP:20260421T150926
CREATED:20250828T071510Z
LAST-MODIFIED:20250828T071510Z
UID:8320-1769104800-1769108400@ichha.org
SUMMARY:Estudio bíblico ONLINE en Kelsterbach. Envíanos un email para participar: info@ichha.org
DESCRIPTION:
URL:http://ichha.org/event/estudio-biblico-online-en-kelsterbach-envianos-un-email-para-participar-infoichha-org-10/
CATEGORIES:espanol
ATTACH;FMTTYPE=image/png:http://ichha.org/wp-content/uploads/2019/03/Bibelkreis.png
END:VEVENT
BEGIN:VEVENT
DTSTART;TZID=Europe/Berlin:20260125T160000
DTEND;TZID=Europe/Berlin:20260125T173000
DTSTAMP:20260421T150926
CREATED:20250828T071435Z
LAST-MODIFIED:20250828T071435Z
UID:8305-1769356800-1769362200@ichha.org
SUMMARY:Culto. Tambien en Youtube (vease  vínculo abajo).
DESCRIPTION:
URL:http://ichha.org/event/culto-tambien-en-youtube-vease-vinculo-abajo-13/
LOCATION:FeG Mörfelden\, Daimlerstraße 5\, Mörfelden\, 64546 \, Deutschland
CATEGORIES:espanol
ATTACH;FMTTYPE=image/png:http://ichha.org/wp-content/uploads/2019/03/Gottesdienst.png
END:VEVENT
BEGIN:VEVENT
DTSTART;TZID=Europe/Berlin:20260127T183000
DTEND;TZID=Europe/Berlin:20260127T193000
DTSTAMP:20260421T150926
CREATED:20250828T071508Z
LAST-MODIFIED:20250828T071508Z
UID:8317-1769538600-1769542200@ichha.org
SUMMARY:Estudio bíblico ONLINE en Mörfelden-Walldorf. Envíanos un email para participar: info@ichha.org
DESCRIPTION:
URL:http://ichha.org/event/estudio-biblico-online-en-morfelden-walldorf-envianos-un-email-para-participar-infoichha-org-13/
CATEGORIES:espanol
ATTACH;FMTTYPE=image/png:http://ichha.org/wp-content/uploads/2019/03/Bibelkreis.png
END:VEVENT
BEGIN:VEVENT
DTSTART;TZID=Europe/Berlin:20260128T163000
DTEND;TZID=Europe/Berlin:20260128T173000
DTSTAMP:20260421T150926
CREATED:20250828T071540Z
LAST-MODIFIED:20250828T071540Z
UID:8329-1769617800-1769621400@ichha.org
SUMMARY:Estudio bíblico en Friedberg
DESCRIPTION:
URL:http://ichha.org/event/estudio-biblico-en-friedberg-11/
CATEGORIES:espanol
ATTACH;FMTTYPE=image/png:http://ichha.org/wp-content/uploads/2019/03/Bibelkreis.png
END:VEVENT
BEGIN:VEVENT
DTSTART;TZID=Europe/Berlin:20260129T180000
DTEND;TZID=Europe/Berlin:20260129T190000
DTSTAMP:20260421T150926
CREATED:20250828T071511Z
LAST-MODIFIED:20250828T071511Z
UID:8321-1769709600-1769713200@ichha.org
SUMMARY:Estudio bíblico ONLINE en Kelsterbach. Envíanos un email para participar: info@ichha.org
DESCRIPTION:
URL:http://ichha.org/event/estudio-biblico-online-en-kelsterbach-envianos-un-email-para-participar-infoichha-org-11/
CATEGORIES:espanol
ATTACH;FMTTYPE=image/png:http://ichha.org/wp-content/uploads/2019/03/Bibelkreis.png
END:VEVENT
END:VCALENDAR