BEGIN:VCALENDAR
VERSION:2.0
PRODID:-//ICHHA - ECPv6.15.13//NONSGML v1.0//EN
CALSCALE:GREGORIAN
METHOD:PUBLISH
X-WR-CALNAME:ICHHA
X-ORIGINAL-URL:http://ichha.org
X-WR-CALDESC:Eventos para ICHHA
REFRESH-INTERVAL;VALUE=DURATION:PT1H
X-Robots-Tag:noindex
X-PUBLISHED-TTL:PT1H
BEGIN:VTIMEZONE
TZID:Europe/Berlin
BEGIN:DAYLIGHT
TZOFFSETFROM:+0100
TZOFFSETTO:+0200
TZNAME:CEST
DTSTART:20240331T010000
END:DAYLIGHT
BEGIN:STANDARD
TZOFFSETFROM:+0200
TZOFFSETTO:+0100
TZNAME:CET
DTSTART:20241027T010000
END:STANDARD
BEGIN:DAYLIGHT
TZOFFSETFROM:+0100
TZOFFSETTO:+0200
TZNAME:CEST
DTSTART:20250330T010000
END:DAYLIGHT
BEGIN:STANDARD
TZOFFSETFROM:+0200
TZOFFSETTO:+0100
TZNAME:CET
DTSTART:20251026T010000
END:STANDARD
BEGIN:DAYLIGHT
TZOFFSETFROM:+0100
TZOFFSETTO:+0200
TZNAME:CEST
DTSTART:20260329T010000
END:DAYLIGHT
BEGIN:STANDARD
TZOFFSETFROM:+0200
TZOFFSETTO:+0100
TZNAME:CET
DTSTART:20261025T010000
END:STANDARD
END:VTIMEZONE
BEGIN:VEVENT
DTSTART;TZID=Europe/Berlin:20250902T183000
DTEND;TZID=Europe/Berlin:20250902T193000
DTSTAMP:20260422T011405
CREATED:20250814T062806Z
LAST-MODIFIED:20250814T062806Z
UID:7865-1756837800-1756841400@ichha.org
SUMMARY:Estudio bíblico ONLINE en Mörfelden-Walldorf. Envíanos un email para participar: info@ichha.org
DESCRIPTION:
URL:http://ichha.org/event/estudio-biblico-online-en-morfelden-walldorf-envianos-un-email-para-participar-infoichha-org-41/
CATEGORIES:espanol
ATTACH;FMTTYPE=image/png:http://ichha.org/wp-content/uploads/2019/03/Bibelkreis.png
END:VEVENT
BEGIN:VEVENT
DTSTART;TZID=Europe/Berlin:20250903T163000
DTEND;TZID=Europe/Berlin:20250903T173000
DTSTAMP:20260422T011405
CREATED:20250814T063004Z
LAST-MODIFIED:20250814T063004Z
UID:7878-1756917000-1756920600@ichha.org
SUMMARY:Estudio bíblico en Friedberg
DESCRIPTION:
URL:http://ichha.org/event/estudio-biblico-en-friedberg-42/
CATEGORIES:espanol
ATTACH;FMTTYPE=image/png:http://ichha.org/wp-content/uploads/2019/03/Bibelkreis.png
END:VEVENT
BEGIN:VEVENT
DTSTART;TZID=Europe/Berlin:20250904T180000
DTEND;TZID=Europe/Berlin:20250904T190000
DTSTAMP:20260422T011405
CREATED:20250814T062849Z
LAST-MODIFIED:20250814T062849Z
UID:7870-1757008800-1757012400@ichha.org
SUMMARY:Estudio bíblico ONLINE en Kelsterbach. Envíanos un email para participar: info@ichha.org
DESCRIPTION:
URL:http://ichha.org/event/estudio-biblico-online-en-kelsterbach-envianos-un-email-para-participar-infoichha-org-42/
CATEGORIES:espanol
ATTACH;FMTTYPE=image/png:http://ichha.org/wp-content/uploads/2019/03/Bibelkreis.png
END:VEVENT
BEGIN:VEVENT
DTSTART;TZID=Europe/Berlin:20250907T160000
DTEND;TZID=Europe/Berlin:20250907T173000
DTSTAMP:20260422T011405
CREATED:20250814T062742Z
LAST-MODIFIED:20250814T062742Z
UID:7852-1757260800-1757266200@ichha.org
SUMMARY:Culto. Tambien en Youtube (vease  vínculo abajo).
DESCRIPTION:
URL:http://ichha.org/event/culto-tambien-en-youtube-vease-vinculo-abajo-43/
LOCATION:FeG Mörfelden\, Daimlerstraße 5\, Mörfelden\, 64546 \, Deutschland
CATEGORIES:espanol
ATTACH;FMTTYPE=image/png:http://ichha.org/wp-content/uploads/2019/03/Gottesdienst.png
END:VEVENT
BEGIN:VEVENT
DTSTART;TZID=Europe/Berlin:20250909T183000
DTEND;TZID=Europe/Berlin:20250909T193000
DTSTAMP:20260422T011405
CREATED:20250814T062806Z
LAST-MODIFIED:20250814T062806Z
UID:7866-1757442600-1757446200@ichha.org
SUMMARY:Estudio bíblico ONLINE en Mörfelden-Walldorf. Envíanos un email para participar: info@ichha.org
DESCRIPTION:
URL:http://ichha.org/event/estudio-biblico-online-en-morfelden-walldorf-envianos-un-email-para-participar-infoichha-org-42/
CATEGORIES:espanol
ATTACH;FMTTYPE=image/png:http://ichha.org/wp-content/uploads/2019/03/Bibelkreis.png
END:VEVENT
BEGIN:VEVENT
DTSTART;TZID=Europe/Berlin:20250910T163000
DTEND;TZID=Europe/Berlin:20250910T173000
DTSTAMP:20260422T011405
CREATED:20250814T063005Z
LAST-MODIFIED:20250814T063005Z
UID:7879-1757521800-1757525400@ichha.org
SUMMARY:Estudio bíblico en Friedberg
DESCRIPTION:
URL:http://ichha.org/event/estudio-biblico-en-friedberg-43/
CATEGORIES:espanol
ATTACH;FMTTYPE=image/png:http://ichha.org/wp-content/uploads/2019/03/Bibelkreis.png
END:VEVENT
BEGIN:VEVENT
DTSTART;TZID=Europe/Berlin:20250911T180000
DTEND;TZID=Europe/Berlin:20250911T190000
DTSTAMP:20260422T011405
CREATED:20250814T062849Z
LAST-MODIFIED:20250814T062849Z
UID:7871-1757613600-1757617200@ichha.org
SUMMARY:Estudio bíblico ONLINE en Kelsterbach. Envíanos un email para participar: info@ichha.org
DESCRIPTION:
URL:http://ichha.org/event/estudio-biblico-online-en-kelsterbach-envianos-un-email-para-participar-infoichha-org-43/
CATEGORIES:espanol
ATTACH;FMTTYPE=image/png:http://ichha.org/wp-content/uploads/2019/03/Bibelkreis.png
END:VEVENT
BEGIN:VEVENT
DTSTART;TZID=Europe/Berlin:20250913T150000
DTEND;TZID=Europe/Berlin:20250913T170000
DTSTAMP:20260422T011405
CREATED:20250814T063021Z
LAST-MODIFIED:20250814T063021Z
UID:7886-1757775600-1757782800@ichha.org
SUMMARY:Reunión de damas
DESCRIPTION:
URL:http://ichha.org/event/reunion-de-damas-10/
LOCATION:FeG Mörfelden\, Daimlerstraße 5\, Mörfelden\, 64546 \, Deutschland
CATEGORIES:espanol
ATTACH;FMTTYPE=image/png:http://ichha.org/wp-content/uploads/2019/03/Frauentreffen.png
END:VEVENT
BEGIN:VEVENT
DTSTART;TZID=Europe/Berlin:20250914T160000
DTEND;TZID=Europe/Berlin:20250914T173000
DTSTAMP:20260422T011405
CREATED:20250814T062743Z
LAST-MODIFIED:20250814T062743Z
UID:7853-1757865600-1757871000@ichha.org
SUMMARY:Culto. Tambien en Youtube (vease  vínculo abajo).
DESCRIPTION:
URL:http://ichha.org/event/culto-tambien-en-youtube-vease-vinculo-abajo-44/
LOCATION:FeG Mörfelden\, Daimlerstraße 5\, Mörfelden\, 64546 \, Deutschland
CATEGORIES:espanol
ATTACH;FMTTYPE=image/png:http://ichha.org/wp-content/uploads/2019/03/Gottesdienst.png
END:VEVENT
BEGIN:VEVENT
DTSTART;TZID=Europe/Berlin:20250916T183000
DTEND;TZID=Europe/Berlin:20250916T193000
DTSTAMP:20260422T011405
CREATED:20250814T062848Z
LAST-MODIFIED:20250814T062848Z
UID:7867-1758047400-1758051000@ichha.org
SUMMARY:Estudio bíblico ONLINE en Mörfelden-Walldorf. Envíanos un email para participar: info@ichha.org
DESCRIPTION:
URL:http://ichha.org/event/estudio-biblico-online-en-morfelden-walldorf-envianos-un-email-para-participar-infoichha-org-43/
CATEGORIES:espanol
ATTACH;FMTTYPE=image/png:http://ichha.org/wp-content/uploads/2019/03/Bibelkreis.png
END:VEVENT
BEGIN:VEVENT
DTSTART;TZID=Europe/Berlin:20250917T163000
DTEND;TZID=Europe/Berlin:20250917T173000
DTSTAMP:20260422T011405
CREATED:20250814T063005Z
LAST-MODIFIED:20250814T063005Z
UID:7880-1758126600-1758130200@ichha.org
SUMMARY:Estudio bíblico en Friedberg
DESCRIPTION:
URL:http://ichha.org/event/estudio-biblico-en-friedberg-44/
CATEGORIES:espanol
ATTACH;FMTTYPE=image/png:http://ichha.org/wp-content/uploads/2019/03/Bibelkreis.png
END:VEVENT
BEGIN:VEVENT
DTSTART;TZID=Europe/Berlin:20250918T180000
DTEND;TZID=Europe/Berlin:20250918T190000
DTSTAMP:20260422T011405
CREATED:20250814T062949Z
LAST-MODIFIED:20250814T062949Z
UID:7872-1758218400-1758222000@ichha.org
SUMMARY:Estudio bíblico ONLINE en Kelsterbach. Envíanos un email para participar: info@ichha.org
DESCRIPTION:
URL:http://ichha.org/event/estudio-biblico-online-en-kelsterbach-envianos-un-email-para-participar-infoichha-org-44/
CATEGORIES:espanol
ATTACH;FMTTYPE=image/png:http://ichha.org/wp-content/uploads/2019/03/Bibelkreis.png
END:VEVENT
BEGIN:VEVENT
DTSTART;TZID=Europe/Berlin:20250921T160000
DTEND;TZID=Europe/Berlin:20250921T173000
DTSTAMP:20260422T011405
CREATED:20250814T062744Z
LAST-MODIFIED:20250814T062744Z
UID:7854-1758470400-1758475800@ichha.org
SUMMARY:Culto. Tambien en Youtube (vease  vínculo abajo).
DESCRIPTION:
URL:http://ichha.org/event/culto-tambien-en-youtube-vease-vinculo-abajo-45/
LOCATION:FeG Mörfelden\, Daimlerstraße 5\, Mörfelden\, 64546 \, Deutschland
CATEGORIES:espanol
ATTACH;FMTTYPE=image/png:http://ichha.org/wp-content/uploads/2019/03/Gottesdienst.png
END:VEVENT
BEGIN:VEVENT
DTSTART;TZID=Europe/Berlin:20250923T183000
DTEND;TZID=Europe/Berlin:20250923T193000
DTSTAMP:20260422T011405
CREATED:20250814T062848Z
LAST-MODIFIED:20250814T062848Z
UID:7868-1758652200-1758655800@ichha.org
SUMMARY:Estudio bíblico ONLINE en Mörfelden-Walldorf. Envíanos un email para participar: info@ichha.org
DESCRIPTION:
URL:http://ichha.org/event/estudio-biblico-online-en-morfelden-walldorf-envianos-un-email-para-participar-infoichha-org-44/
CATEGORIES:espanol
ATTACH;FMTTYPE=image/png:http://ichha.org/wp-content/uploads/2019/03/Bibelkreis.png
END:VEVENT
BEGIN:VEVENT
DTSTART;TZID=Europe/Berlin:20250924T163000
DTEND;TZID=Europe/Berlin:20250924T173000
DTSTAMP:20260422T011405
CREATED:20250814T063005Z
LAST-MODIFIED:20250814T063005Z
UID:7881-1758731400-1758735000@ichha.org
SUMMARY:Estudio bíblico en Friedberg
DESCRIPTION:
URL:http://ichha.org/event/estudio-biblico-en-friedberg-45/
CATEGORIES:espanol
ATTACH;FMTTYPE=image/png:http://ichha.org/wp-content/uploads/2019/03/Bibelkreis.png
END:VEVENT
BEGIN:VEVENT
DTSTART;TZID=Europe/Berlin:20250925T180000
DTEND;TZID=Europe/Berlin:20250925T190000
DTSTAMP:20260422T011405
CREATED:20250814T062950Z
LAST-MODIFIED:20250814T062950Z
UID:7873-1758823200-1758826800@ichha.org
SUMMARY:Estudio bíblico ONLINE en Kelsterbach. Envíanos un email para participar: info@ichha.org
DESCRIPTION:
URL:http://ichha.org/event/estudio-biblico-online-en-kelsterbach-envianos-un-email-para-participar-infoichha-org-45/
CATEGORIES:espanol
ATTACH;FMTTYPE=image/png:http://ichha.org/wp-content/uploads/2019/03/Bibelkreis.png
END:VEVENT
BEGIN:VEVENT
DTSTART;TZID=Europe/Berlin:20250928T160000
DTEND;TZID=Europe/Berlin:20250928T173000
DTSTAMP:20260422T011405
CREATED:20250814T062745Z
LAST-MODIFIED:20250814T062745Z
UID:7855-1759075200-1759080600@ichha.org
SUMMARY:Culto. Tambien en Youtube (vease  vínculo abajo).
DESCRIPTION:
URL:http://ichha.org/event/culto-tambien-en-youtube-vease-vinculo-abajo-46/
LOCATION:FeG Mörfelden\, Daimlerstraße 5\, Mörfelden\, 64546 \, Deutschland
CATEGORIES:espanol
ATTACH;FMTTYPE=image/png:http://ichha.org/wp-content/uploads/2019/03/Gottesdienst.png
END:VEVENT
BEGIN:VEVENT
DTSTART;TZID=Europe/Berlin:20250930T183000
DTEND;TZID=Europe/Berlin:20250930T193000
DTSTAMP:20260422T011405
CREATED:20250814T062848Z
LAST-MODIFIED:20250814T062848Z
UID:7869-1759257000-1759260600@ichha.org
SUMMARY:Estudio bíblico ONLINE en Mörfelden-Walldorf. Envíanos un email para participar: info@ichha.org
DESCRIPTION:
URL:http://ichha.org/event/estudio-biblico-online-en-morfelden-walldorf-envianos-un-email-para-participar-infoichha-org-45/
CATEGORIES:espanol
ATTACH;FMTTYPE=image/png:http://ichha.org/wp-content/uploads/2019/03/Bibelkreis.png
END:VEVENT
END:VCALENDAR