BEGIN:VCALENDAR
VERSION:2.0
PRODID:-//ICHHA - ECPv6.15.13//NONSGML v1.0//EN
CALSCALE:GREGORIAN
METHOD:PUBLISH
X-WR-CALNAME:ICHHA
X-ORIGINAL-URL:http://ichha.org/de
X-WR-CALDESC:Veranstaltungen für ICHHA
REFRESH-INTERVAL;VALUE=DURATION:PT1H
X-Robots-Tag:noindex
X-PUBLISHED-TTL:PT1H
BEGIN:VTIMEZONE
TZID:Europe/Berlin
BEGIN:DAYLIGHT
TZOFFSETFROM:+0100
TZOFFSETTO:+0200
TZNAME:CEST
DTSTART:20240331T010000
END:DAYLIGHT
BEGIN:STANDARD
TZOFFSETFROM:+0200
TZOFFSETTO:+0100
TZNAME:CET
DTSTART:20241027T010000
END:STANDARD
BEGIN:DAYLIGHT
TZOFFSETFROM:+0100
TZOFFSETTO:+0200
TZNAME:CEST
DTSTART:20250330T010000
END:DAYLIGHT
BEGIN:STANDARD
TZOFFSETFROM:+0200
TZOFFSETTO:+0100
TZNAME:CET
DTSTART:20251026T010000
END:STANDARD
BEGIN:DAYLIGHT
TZOFFSETFROM:+0100
TZOFFSETTO:+0200
TZNAME:CEST
DTSTART:20260329T010000
END:DAYLIGHT
BEGIN:STANDARD
TZOFFSETFROM:+0200
TZOFFSETTO:+0100
TZNAME:CET
DTSTART:20261025T010000
END:STANDARD
END:VTIMEZONE
BEGIN:VEVENT
DTSTART;TZID=Europe/Berlin:20251102T160000
DTEND;TZID=Europe/Berlin:20251102T173000
DTSTAMP:20260424T010038
CREATED:20250828T070906Z
LAST-MODIFIED:20250828T070906Z
UID:8230-1762099200-1762104600@ichha.org
SUMMARY:Culto. Tambien en Youtube (vease  vínculo abajo).
DESCRIPTION:
URL:http://ichha.org/de/event/culto-tambien-en-youtube-vease-vinculo-abajo/
LOCATION:FeG Mörfelden\, Daimlerstraße 5\, Mörfelden\, 64546 \, Deutschland
CATEGORIES:espanol
ATTACH;FMTTYPE=image/png:http://ichha.org/wp-content/uploads/2019/03/Gottesdienst.png
END:VEVENT
BEGIN:VEVENT
DTSTART;TZID=Europe/Berlin:20251102T160000
DTEND;TZID=Europe/Berlin:20251102T173000
DTSTAMP:20260424T010038
CREATED:20250828T070913Z
LAST-MODIFIED:20250901T082450Z
UID:8235-1762099200-1762104600@ichha.org
SUMMARY:Gottesdienst. Auch über Youtube (siehe Link ganz unten).
DESCRIPTION:
URL:http://ichha.org/de/event/gottesdienst-auch-uber-youtube-siehe-link-ganz-unten/
LOCATION:FeG Mörfelden\, Daimlerstraße 5\, Mörfelden\, 64546 \, Deutschland
CATEGORIES:deutsch
ATTACH;FMTTYPE=image/png:http://ichha.org/wp-content/uploads/2019/03/Gottesdienst.png
END:VEVENT
BEGIN:VEVENT
DTSTART;TZID=Europe/Berlin:20251104T183000
DTEND;TZID=Europe/Berlin:20251104T193000
DTSTAMP:20260424T010038
CREATED:20250828T070929Z
LAST-MODIFIED:20250828T070929Z
UID:8240-1762281000-1762284600@ichha.org
SUMMARY:Bibelkreis ONLINE in Mörfelden-Walldorf. Um teilzunehmen schick' uns eine Email: info@ichha.org
DESCRIPTION:
URL:http://ichha.org/de/event/bibelkreis-online-in-morfelden-walldorf-um-teilzunehmen-schick-uns-eine-email-infoichha-org/
CATEGORIES:deutsch
ATTACH;FMTTYPE=image/png:http://ichha.org/wp-content/uploads/2019/03/Bibelkreis.png
END:VEVENT
BEGIN:VEVENT
DTSTART;TZID=Europe/Berlin:20251104T183000
DTEND;TZID=Europe/Berlin:20251104T193000
DTSTAMP:20260424T010038
CREATED:20250828T070930Z
LAST-MODIFIED:20250828T070930Z
UID:8244-1762281000-1762284600@ichha.org
SUMMARY:Estudio bíblico ONLINE en Mörfelden-Walldorf. Envíanos un email para participar: info@ichha.org
DESCRIPTION:
URL:http://ichha.org/de/event/estudio-biblico-online-en-morfelden-walldorf-envianos-un-email-para-participar-infoichha-org/
CATEGORIES:espanol
ATTACH;FMTTYPE=image/png:http://ichha.org/wp-content/uploads/2019/03/Bibelkreis.png
END:VEVENT
BEGIN:VEVENT
DTSTART;TZID=Europe/Berlin:20251105T163000
DTEND;TZID=Europe/Berlin:20251105T173000
DTSTAMP:20260424T010038
CREATED:20250828T071054Z
LAST-MODIFIED:20250828T071054Z
UID:8256-1762360200-1762363800@ichha.org
SUMMARY:Estudio bíblico en Friedberg
DESCRIPTION:
URL:http://ichha.org/de/event/estudio-biblico-en-friedberg/
CATEGORIES:espanol
ATTACH;FMTTYPE=image/png:http://ichha.org/wp-content/uploads/2019/03/Bibelkreis.png
END:VEVENT
BEGIN:VEVENT
DTSTART;TZID=Europe/Berlin:20251105T163000
DTEND;TZID=Europe/Berlin:20251105T173000
DTSTAMP:20260424T010038
CREATED:20250828T071107Z
LAST-MODIFIED:20250828T071107Z
UID:8260-1762360200-1762363800@ichha.org
SUMMARY:Bibelkreis in Friedberg
DESCRIPTION:
URL:http://ichha.org/de/event/bibelkreis-in-friedberg/
CATEGORIES:deutsch
ATTACH;FMTTYPE=image/png:http://ichha.org/wp-content/uploads/2019/03/Bibelkreis.png
END:VEVENT
BEGIN:VEVENT
DTSTART;TZID=Europe/Berlin:20251106T180000
DTEND;TZID=Europe/Berlin:20251106T190000
DTSTAMP:20260424T010038
CREATED:20250828T070945Z
LAST-MODIFIED:20250828T070945Z
UID:8248-1762452000-1762455600@ichha.org
SUMMARY:Estudio bíblico ONLINE en Kelsterbach. Envíanos un email para participar: info@ichha.org
DESCRIPTION:
URL:http://ichha.org/de/event/estudio-biblico-online-en-kelsterbach-envianos-un-email-para-participar-infoichha-org/
CATEGORIES:espanol
ATTACH;FMTTYPE=image/png:http://ichha.org/wp-content/uploads/2019/03/Bibelkreis.png
END:VEVENT
BEGIN:VEVENT
DTSTART;TZID=Europe/Berlin:20251106T180000
DTEND;TZID=Europe/Berlin:20251106T190000
DTSTAMP:20260424T010038
CREATED:20250828T071003Z
LAST-MODIFIED:20250828T071003Z
UID:8252-1762452000-1762455600@ichha.org
SUMMARY:Bibelkreis ONLINE in Kelsterbach. Um teilzunehmen schick' uns eine Email: info@ichha.org
DESCRIPTION:
URL:http://ichha.org/de/event/bibelkreis-online-in-kelsterbach-um-teilzunehmen-schick-uns-eine-email-infoichha-org/
CATEGORIES:deutsch
ATTACH;FMTTYPE=image/png:http://ichha.org/wp-content/uploads/2019/03/Bibelkreis.png
END:VEVENT
BEGIN:VEVENT
DTSTART;TZID=Europe/Berlin:20251108T150000
DTEND;TZID=Europe/Berlin:20251108T170000
DTSTAMP:20260424T010038
CREATED:20250828T071109Z
LAST-MODIFIED:20250828T071109Z
UID:8264-1762614000-1762621200@ichha.org
SUMMARY:Reunión de damas
DESCRIPTION:
URL:http://ichha.org/de/event/reunion-de-damas/
LOCATION:FeG Mörfelden\, Daimlerstraße 5\, Mörfelden\, 64546 \, Deutschland
CATEGORIES:espanol
ATTACH;FMTTYPE=image/png:http://ichha.org/wp-content/uploads/2019/03/Frauentreffen.png
END:VEVENT
BEGIN:VEVENT
DTSTART;TZID=Europe/Berlin:20251108T150000
DTEND;TZID=Europe/Berlin:20251108T170000
DTSTAMP:20260424T010038
CREATED:20250828T071123Z
LAST-MODIFIED:20250901T082442Z
UID:8265-1762614000-1762621200@ichha.org
SUMMARY:Frauentreffen
DESCRIPTION:
URL:http://ichha.org/de/event/frauentreffen/
LOCATION:FeG Mörfelden\, Daimlerstraße 5\, Mörfelden\, 64546 \, Deutschland
CATEGORIES:deutsch
ATTACH;FMTTYPE=image/png:http://ichha.org/wp-content/uploads/2019/03/Frauentreffen.png
END:VEVENT
BEGIN:VEVENT
DTSTART;TZID=Europe/Berlin:20251109T160000
DTEND;TZID=Europe/Berlin:20251109T173000
DTSTAMP:20260424T010038
CREATED:20250828T070907Z
LAST-MODIFIED:20250828T070907Z
UID:8231-1762704000-1762709400@ichha.org
SUMMARY:Culto. Tambien en Youtube (vease  vínculo abajo).
DESCRIPTION:
URL:http://ichha.org/de/event/culto-tambien-en-youtube-vease-vinculo-abajo-2/
LOCATION:FeG Mörfelden\, Daimlerstraße 5\, Mörfelden\, 64546 \, Deutschland
CATEGORIES:espanol
ATTACH;FMTTYPE=image/png:http://ichha.org/wp-content/uploads/2019/03/Gottesdienst.png
END:VEVENT
BEGIN:VEVENT
DTSTART;TZID=Europe/Berlin:20251109T160000
DTEND;TZID=Europe/Berlin:20251109T173000
DTSTAMP:20260424T010038
CREATED:20250828T070913Z
LAST-MODIFIED:20250901T082433Z
UID:8236-1762704000-1762709400@ichha.org
SUMMARY:Gottesdienst. Auch über Youtube (siehe Link ganz unten).
DESCRIPTION:
URL:http://ichha.org/de/event/gottesdienst-auch-uber-youtube-siehe-link-ganz-unten-2/
LOCATION:FeG Mörfelden\, Daimlerstraße 5\, Mörfelden\, 64546 \, Deutschland
CATEGORIES:deutsch
ATTACH;FMTTYPE=image/png:http://ichha.org/wp-content/uploads/2019/03/Gottesdienst.png
END:VEVENT
BEGIN:VEVENT
DTSTART;TZID=Europe/Berlin:20251111T183000
DTEND;TZID=Europe/Berlin:20251111T193000
DTSTAMP:20260424T010038
CREATED:20250828T070929Z
LAST-MODIFIED:20250828T070929Z
UID:8241-1762885800-1762889400@ichha.org
SUMMARY:Bibelkreis ONLINE in Mörfelden-Walldorf. Um teilzunehmen schick' uns eine Email: info@ichha.org
DESCRIPTION:
URL:http://ichha.org/de/event/bibelkreis-online-in-morfelden-walldorf-um-teilzunehmen-schick-uns-eine-email-infoichha-org-2/
CATEGORIES:deutsch
ATTACH;FMTTYPE=image/png:http://ichha.org/wp-content/uploads/2019/03/Bibelkreis.png
END:VEVENT
BEGIN:VEVENT
DTSTART;TZID=Europe/Berlin:20251111T183000
DTEND;TZID=Europe/Berlin:20251111T193000
DTSTAMP:20260424T010038
CREATED:20250828T070944Z
LAST-MODIFIED:20250828T070944Z
UID:8245-1762885800-1762889400@ichha.org
SUMMARY:Estudio bíblico ONLINE en Mörfelden-Walldorf. Envíanos un email para participar: info@ichha.org
DESCRIPTION:
URL:http://ichha.org/de/event/estudio-biblico-online-en-morfelden-walldorf-envianos-un-email-para-participar-infoichha-org-2/
CATEGORIES:espanol
ATTACH;FMTTYPE=image/png:http://ichha.org/wp-content/uploads/2019/03/Bibelkreis.png
END:VEVENT
BEGIN:VEVENT
DTSTART;TZID=Europe/Berlin:20251112T163000
DTEND;TZID=Europe/Berlin:20251112T173000
DTSTAMP:20260424T010038
CREATED:20250828T071055Z
LAST-MODIFIED:20250828T071055Z
UID:8257-1762965000-1762968600@ichha.org
SUMMARY:Estudio bíblico en Friedberg
DESCRIPTION:
URL:http://ichha.org/de/event/estudio-biblico-en-friedberg-2/
CATEGORIES:espanol
ATTACH;FMTTYPE=image/png:http://ichha.org/wp-content/uploads/2019/03/Bibelkreis.png
END:VEVENT
BEGIN:VEVENT
DTSTART;TZID=Europe/Berlin:20251112T163000
DTEND;TZID=Europe/Berlin:20251112T173000
DTSTAMP:20260424T010038
CREATED:20250828T071108Z
LAST-MODIFIED:20250828T071108Z
UID:8261-1762965000-1762968600@ichha.org
SUMMARY:Bibelkreis in Friedberg
DESCRIPTION:
URL:http://ichha.org/de/event/bibelkreis-in-friedberg-2/
CATEGORIES:deutsch
ATTACH;FMTTYPE=image/png:http://ichha.org/wp-content/uploads/2019/03/Bibelkreis.png
END:VEVENT
BEGIN:VEVENT
DTSTART;TZID=Europe/Berlin:20251113T180000
DTEND;TZID=Europe/Berlin:20251113T190000
DTSTAMP:20260424T010038
CREATED:20250828T070946Z
LAST-MODIFIED:20250828T070946Z
UID:8249-1763056800-1763060400@ichha.org
SUMMARY:Estudio bíblico ONLINE en Kelsterbach. Envíanos un email para participar: info@ichha.org
DESCRIPTION:
URL:http://ichha.org/de/event/estudio-biblico-online-en-kelsterbach-envianos-un-email-para-participar-infoichha-org-2/
CATEGORIES:espanol
ATTACH;FMTTYPE=image/png:http://ichha.org/wp-content/uploads/2019/03/Bibelkreis.png
END:VEVENT
BEGIN:VEVENT
DTSTART;TZID=Europe/Berlin:20251113T180000
DTEND;TZID=Europe/Berlin:20251113T190000
DTSTAMP:20260424T010038
CREATED:20250828T071004Z
LAST-MODIFIED:20250828T071004Z
UID:8253-1763056800-1763060400@ichha.org
SUMMARY:Bibelkreis ONLINE in Kelsterbach. Um teilzunehmen schick' uns eine Email: info@ichha.org
DESCRIPTION:
URL:http://ichha.org/de/event/bibelkreis-online-in-kelsterbach-um-teilzunehmen-schick-uns-eine-email-infoichha-org-2/
CATEGORIES:deutsch
ATTACH;FMTTYPE=image/png:http://ichha.org/wp-content/uploads/2019/03/Bibelkreis.png
END:VEVENT
BEGIN:VEVENT
DTSTART;TZID=Europe/Berlin:20251116T160000
DTEND;TZID=Europe/Berlin:20251116T173000
DTSTAMP:20260424T010038
CREATED:20250828T070908Z
LAST-MODIFIED:20250828T070908Z
UID:8232-1763308800-1763314200@ichha.org
SUMMARY:Culto. Tambien en Youtube (vease  vínculo abajo).
DESCRIPTION:
URL:http://ichha.org/de/event/culto-tambien-en-youtube-vease-vinculo-abajo-3/
LOCATION:FeG Mörfelden\, Daimlerstraße 5\, Mörfelden\, 64546 \, Deutschland
CATEGORIES:espanol
ATTACH;FMTTYPE=image/png:http://ichha.org/wp-content/uploads/2019/03/Gottesdienst.png
END:VEVENT
BEGIN:VEVENT
DTSTART;TZID=Europe/Berlin:20251116T160000
DTEND;TZID=Europe/Berlin:20251116T173000
DTSTAMP:20260424T010038
CREATED:20250828T070914Z
LAST-MODIFIED:20250901T082424Z
UID:8237-1763308800-1763314200@ichha.org
SUMMARY:Gottesdienst. Auch über Youtube (siehe Link ganz unten).
DESCRIPTION:
URL:http://ichha.org/de/event/gottesdienst-auch-uber-youtube-siehe-link-ganz-unten-3/
LOCATION:FeG Mörfelden\, Daimlerstraße 5\, Mörfelden\, 64546 \, Deutschland
CATEGORIES:deutsch
ATTACH;FMTTYPE=image/png:http://ichha.org/wp-content/uploads/2019/03/Gottesdienst.png
END:VEVENT
BEGIN:VEVENT
DTSTART;TZID=Europe/Berlin:20251118T183000
DTEND;TZID=Europe/Berlin:20251118T193000
DTSTAMP:20260424T010038
CREATED:20250828T070930Z
LAST-MODIFIED:20250828T070930Z
UID:8242-1763490600-1763494200@ichha.org
SUMMARY:Bibelkreis ONLINE in Mörfelden-Walldorf. Um teilzunehmen schick' uns eine Email: info@ichha.org
DESCRIPTION:
URL:http://ichha.org/de/event/bibelkreis-online-in-morfelden-walldorf-um-teilzunehmen-schick-uns-eine-email-infoichha-org-3/
CATEGORIES:deutsch
ATTACH;FMTTYPE=image/png:http://ichha.org/wp-content/uploads/2019/03/Bibelkreis.png
END:VEVENT
BEGIN:VEVENT
DTSTART;TZID=Europe/Berlin:20251118T183000
DTEND;TZID=Europe/Berlin:20251118T193000
DTSTAMP:20260424T010038
CREATED:20250828T070944Z
LAST-MODIFIED:20250828T070944Z
UID:8246-1763490600-1763494200@ichha.org
SUMMARY:Estudio bíblico ONLINE en Mörfelden-Walldorf. Envíanos un email para participar: info@ichha.org
DESCRIPTION:
URL:http://ichha.org/de/event/estudio-biblico-online-en-morfelden-walldorf-envianos-un-email-para-participar-infoichha-org-3/
CATEGORIES:espanol
ATTACH;FMTTYPE=image/png:http://ichha.org/wp-content/uploads/2019/03/Bibelkreis.png
END:VEVENT
BEGIN:VEVENT
DTSTART;TZID=Europe/Berlin:20251119T163000
DTEND;TZID=Europe/Berlin:20251119T173000
DTSTAMP:20260424T010038
CREATED:20250828T071055Z
LAST-MODIFIED:20250828T071055Z
UID:8258-1763569800-1763573400@ichha.org
SUMMARY:Estudio bíblico en Friedberg
DESCRIPTION:
URL:http://ichha.org/de/event/estudio-biblico-en-friedberg-3/
CATEGORIES:espanol
ATTACH;FMTTYPE=image/png:http://ichha.org/wp-content/uploads/2019/03/Bibelkreis.png
END:VEVENT
BEGIN:VEVENT
DTSTART;TZID=Europe/Berlin:20251119T163000
DTEND;TZID=Europe/Berlin:20251119T173000
DTSTAMP:20260424T010038
CREATED:20250828T071108Z
LAST-MODIFIED:20250828T071108Z
UID:8262-1763569800-1763573400@ichha.org
SUMMARY:Bibelkreis in Friedberg
DESCRIPTION:
URL:http://ichha.org/de/event/bibelkreis-in-friedberg-3/
CATEGORIES:deutsch
ATTACH;FMTTYPE=image/png:http://ichha.org/wp-content/uploads/2019/03/Bibelkreis.png
END:VEVENT
BEGIN:VEVENT
DTSTART;TZID=Europe/Berlin:20251120T180000
DTEND;TZID=Europe/Berlin:20251120T190000
DTSTAMP:20260424T010038
CREATED:20250828T070959Z
LAST-MODIFIED:20250828T070959Z
UID:8250-1763661600-1763665200@ichha.org
SUMMARY:Estudio bíblico ONLINE en Kelsterbach. Envíanos un email para participar: info@ichha.org
DESCRIPTION:
URL:http://ichha.org/de/event/estudio-biblico-online-en-kelsterbach-envianos-un-email-para-participar-infoichha-org-3/
CATEGORIES:espanol
ATTACH;FMTTYPE=image/png:http://ichha.org/wp-content/uploads/2019/03/Bibelkreis.png
END:VEVENT
BEGIN:VEVENT
DTSTART;TZID=Europe/Berlin:20251120T180000
DTEND;TZID=Europe/Berlin:20251120T190000
DTSTAMP:20260424T010038
CREATED:20250828T071004Z
LAST-MODIFIED:20250828T071004Z
UID:8254-1763661600-1763665200@ichha.org
SUMMARY:Bibelkreis ONLINE in Kelsterbach. Um teilzunehmen schick' uns eine Email: info@ichha.org
DESCRIPTION:
URL:http://ichha.org/de/event/bibelkreis-online-in-kelsterbach-um-teilzunehmen-schick-uns-eine-email-infoichha-org-3/
CATEGORIES:deutsch
ATTACH;FMTTYPE=image/png:http://ichha.org/wp-content/uploads/2019/03/Bibelkreis.png
END:VEVENT
BEGIN:VEVENT
DTSTART;TZID=Europe/Berlin:20251123T160000
DTEND;TZID=Europe/Berlin:20251123T173000
DTSTAMP:20260424T010038
CREATED:20250828T070909Z
LAST-MODIFIED:20250828T070909Z
UID:8233-1763913600-1763919000@ichha.org
SUMMARY:Culto. Tambien en Youtube (vease  vínculo abajo).
DESCRIPTION:
URL:http://ichha.org/de/event/culto-tambien-en-youtube-vease-vinculo-abajo-4/
LOCATION:FeG Mörfelden\, Daimlerstraße 5\, Mörfelden\, 64546 \, Deutschland
CATEGORIES:espanol
ATTACH;FMTTYPE=image/png:http://ichha.org/wp-content/uploads/2019/03/Gottesdienst.png
END:VEVENT
BEGIN:VEVENT
DTSTART;TZID=Europe/Berlin:20251123T160000
DTEND;TZID=Europe/Berlin:20251123T173000
DTSTAMP:20260424T010038
CREATED:20250828T070914Z
LAST-MODIFIED:20250901T082415Z
UID:8238-1763913600-1763919000@ichha.org
SUMMARY:Gottesdienst. Auch über Youtube (siehe Link ganz unten).
DESCRIPTION:
URL:http://ichha.org/de/event/gottesdienst-auch-uber-youtube-siehe-link-ganz-unten-4/
LOCATION:FeG Mörfelden\, Daimlerstraße 5\, Mörfelden\, 64546 \, Deutschland
CATEGORIES:deutsch
ATTACH;FMTTYPE=image/png:http://ichha.org/wp-content/uploads/2019/03/Gottesdienst.png
END:VEVENT
BEGIN:VEVENT
DTSTART;TZID=Europe/Berlin:20251125T183000
DTEND;TZID=Europe/Berlin:20251125T193000
DTSTAMP:20260424T010038
CREATED:20250828T070930Z
LAST-MODIFIED:20250828T070930Z
UID:8243-1764095400-1764099000@ichha.org
SUMMARY:Bibelkreis ONLINE in Mörfelden-Walldorf. Um teilzunehmen schick' uns eine Email: info@ichha.org
DESCRIPTION:
URL:http://ichha.org/de/event/bibelkreis-online-in-morfelden-walldorf-um-teilzunehmen-schick-uns-eine-email-infoichha-org-4/
CATEGORIES:deutsch
ATTACH;FMTTYPE=image/png:http://ichha.org/wp-content/uploads/2019/03/Bibelkreis.png
END:VEVENT
BEGIN:VEVENT
DTSTART;TZID=Europe/Berlin:20251125T183000
DTEND;TZID=Europe/Berlin:20251125T193000
DTSTAMP:20260424T010038
CREATED:20250828T070945Z
LAST-MODIFIED:20250828T070945Z
UID:8247-1764095400-1764099000@ichha.org
SUMMARY:Estudio bíblico ONLINE en Mörfelden-Walldorf. Envíanos un email para participar: info@ichha.org
DESCRIPTION:
URL:http://ichha.org/de/event/estudio-biblico-online-en-morfelden-walldorf-envianos-un-email-para-participar-infoichha-org-4/
CATEGORIES:espanol
ATTACH;FMTTYPE=image/png:http://ichha.org/wp-content/uploads/2019/03/Bibelkreis.png
END:VEVENT
END:VCALENDAR